BEGIN:VCALENDAR
VERSION:2.0
PRODID:-//APU - ECPv6.15.20//NONSGML v1.0//EN
CALSCALE:GREGORIAN
METHOD:PUBLISH
X-ORIGINAL-URL:https://apuruguay.org
X-WR-CALDESC:Eventos para APU
REFRESH-INTERVAL;VALUE=DURATION:PT1H
X-Robots-Tag:noindex
X-PUBLISHED-TTL:PT1H
BEGIN:VTIMEZONE
TZID:America/Montevideo
BEGIN:STANDARD
TZOFFSETFROM:-0300
TZOFFSETTO:-0300
TZNAME:-03
DTSTART:20210101T000000
END:STANDARD
END:VTIMEZONE
BEGIN:VEVENT
DTSTART;TZID=America/Montevideo:20220401T090000
DTEND;TZID=America/Montevideo:20220401T110000
DTSTAMP:20260423T172745
CREATED:20220321T200855Z
LAST-MODIFIED:20220519T150412Z
UID:14786-1648803600-1648810800@apuruguay.org
SUMMARY:Ciclo: Lo fraterno. 1 y 8 de abril de 2022. Inscribirse
DESCRIPTION:Imagen de la Lic. Verónica Mangarelli (Analista en Formación\, IUPP) \nCICLO: LO FRATERNO.\nActividades científicas abiertas vía Zoom\, con inscripción previa. \n01/04\, 9 a 11 hs: Con – fraternidades\n\nPsicoanalista Paula López (APU)\nPsicoanalista Fernando Orduz (Sociedad Colombiana de Psicoanálisis)\nProfesora de Literatura Victoria Morón\nPsicoanalista Ximena Malmierca (APU) \nLeer trabajos\nA propósito de fraternidad… Mens Sana in Corpore Sano\, de Paula López\nDivagaciones sobre Lo Fraterno\, de Fernando Orduz \nPara participar\, completar formulario de inscripción  \nCoordina Dra. Alicia Kachinovsky\, Directora de la Comisión Científica \n\n08/04\, 9 a 11 hs: Confraternizando con otras sociedades científicas\nPsic. Andrea Gelsi (AUPCV)\nPsic. Sandra Queirolo (AUPCV\, AUDEPP)\nLas presentaciones se realizarán en la actividad. \nPara participar\, completar formulario de inscripción \nCoordina Dra. Alicia Kachinovsky\, Directora de la Comisión Científica
URL:https://apuruguay.org/evento/ciclo-lo-fraterno-abril-de-2022/
CATEGORIES:Actividad Científica
ATTACH;FMTTYPE=image/jpeg:https://apuruguay.org/wp-content/uploads/2022/03/ciclo-abril-2022-IMG-20220321-WA0014-600.jpg
END:VEVENT
BEGIN:VEVENT
DTSTART;TZID=America/Montevideo:20220402T100000
DTEND;TZID=America/Montevideo:20220402T123000
DTSTAMP:20260423T172745
CREATED:20220318T184444Z
LAST-MODIFIED:20220318T201216Z
UID:14743-1648893600-1648902600@apuruguay.org
SUMMARY:MUROS PARLANTES...  2 de abril 2022 10 hs. Actividad preparatoria al XI Congreso. Inscribirse
DESCRIPTION:  \nCaminata coordinada por un especialista en el tema\, Manu Rivoir (streetart@gmail.com).  Pago en el lugar de encuentro de un ticket de $250. Cupo de la actividad: 25 personas. \nPara participar completar Formulario de inscripción \nUNA RUTA ENTRE LAS ARTES \nActividades preparatorias presenciales \nEn el marco de las actividades preparatorias\, la subcomisión “Artes” propone una serie de actividades que favorezcan el contacto con la experiencia estética y los procesos creativos en el arte. Las experiencias y producciones con que nos sorprenden los artistas y sus creaciones demuestran una y otra vez – tal como insistía Freud- que el arte capta con inequívoca intuición y exactitud lo que los analistas intentamos aprehender en forma tentativa y balbuceante acerca de la vida psíquica. \nCon el propósito de ensanchar la disposición a trabajar psicoanalíticamente el concepto de creatividad\, pareció pertinente diseñar una “hoja de ruta” con distintas “paradas/experiencias” que incluyan un recorrido por los distintos lenguajes del arte: la pintura\, no solo en el soporte clásico del lienzo sino también en sus “Muros parlantes”\, la producción audiovisual de los jóvenes\, la escultura\, la literatura\, el teatro\, el cine\, la música y la danza. \nSe incluirán espacios de diálogo entre artistas y psicoanalistas\, buscando trabajar conceptualmente\, encontrar zonas de cruce   y construir “ideas en tránsito”\, con el propósito de enriquecer a ambas disciplinas. \nA su vez\, estas actividades propician el reencuentro presencial\, entre nosotros y con la comunidad\, para afectar no solo con la palabra sino también con otros lenguajes y expresiones culturales. Creatividad que persigue encuentro libidinal\, ligazón con la teoría\, pero sobre todo ligazón con lo vital. \nSubcomisión Artes: Fernanda Cubría\, Ximena Malmierca\, Margarita Muniz\, Paula Rath\, Cecilia Romero. \n  \n\n\nViernes 29 de abril\, 18:30 horas\n\nLiteratura y psicoanálisis. Voces y silencios que habitan la literatura infantil.  Info
URL:https://apuruguay.org/evento/muros-parlantes-2-de-abril-2022-10-hs-actividad-preparatoria-al-xi-congreso-inscribirse/
LOCATION:Sede de APU
CATEGORIES:Actividad Científica,Noticias
ATTACH;FMTTYPE=image/jpeg:https://apuruguay.org/wp-content/uploads/2022/03/muros-parlantes-final-02abril2022-800.jpg
ORGANIZER;CN="Comisi%C3%B3n Cient%C3%ADfica":MAILTO:congreso-2022-creatividad@apuruguay.org
END:VEVENT
BEGIN:VEVENT
DTSTART;TZID=America/Montevideo:20220408T090000
DTEND;TZID=America/Montevideo:20220408T110000
DTSTAMP:20260423T172745
CREATED:20220324T204934Z
LAST-MODIFIED:20220519T150533Z
UID:14842-1649408400-1649415600@apuruguay.org
SUMMARY:Confraternizando con otras sociedades científicas. 8 de abril 2022. Abierta
DESCRIPTION:Imagen de la Lic. Verónica Mangarelli (Analista en Formación\, IUPP) \n8 de abril\, 9 a 11 horas\, vía Zoom. \nActividad científica abierta con inscripción previa.\n \nConfraternizando con otras sociedades científicas\nPsic. Andrea Gelsi (AUPCV)\nPsic. Sandra Queirolo (AUPCV\, AUDEPP)\nLas presentaciones se realizarán en la actividad. \nEsta actividad forma parte del CICLO: LO FRATERNO. Info \nPara participar\, completar formulario de inscripción  \nCoordina Dra. Alicia Kachinovsky\, Directora de la Comisión Científica
URL:https://apuruguay.org/evento/confraternizando-con-otras-sociedades-cientificas-8-de-abril-2022-abierta/
CATEGORIES:Actividad Científica
ATTACH;FMTTYPE=image/jpeg:https://apuruguay.org/wp-content/uploads/2022/03/ciclo-abril-2022-IMG-20220321-WA0014-600.jpg
END:VEVENT
BEGIN:VEVENT
DTSTART;TZID=America/Montevideo:20220429T183000
DTEND;TZID=America/Montevideo:20220429T200000
DTSTAMP:20260423T172745
CREATED:20220324T223649Z
LAST-MODIFIED:20220324T223836Z
UID:14850-1651257000-1651262400@apuruguay.org
SUMMARY:LITERATURA Y PSICOANÁLISIS Voces y silencios que habitan la literatura infantil. 29 de abril 2022. Preparatoria al XI Congreso. Inscribirse
DESCRIPTION:¿Qué muestran y qué callan los libros para niños? ¿Qué recorridos hacemos los adultos cuando leemos o acercamos lecturas a los niños? ¿Qué esperamos de nosotros\, los niños y los libros? Sede de APU.   Taller a cargo de Cecilia Rodríguez. \nActividad presencial gratuita\, con inscripción previa. Formulario de inscripción \n\n  \nEn el marco de las actividades preparatorias\, la subcomisión “Artes” propone una serie de actividades que favorezcan el contacto con la experiencia estética y los procesos creativos en el arte. Las experiencias y producciones con que nos sorprenden los artistas y sus creaciones demuestran una y otra vez – tal como insistía Freud- que el arte capta con inequívoca intuición y exactitud lo que los analistas intentamos aprehender en forma tentativa y balbuceante acerca de la vida psíquica. \nCon el propósito de ensanchar la disposición a trabajar psicoanalíticamente el concepto de creatividad\, pareció pertinente diseñar una “hoja de ruta” con distintas “paradas/experiencias” que incluyan un recorrido por los distintos lenguajes del arte: la pintura\, no solo en el soporte clásico del lienzo sino también en sus “Muros parlantes”\, la producción audiovisual de los jóvenes\, la escultura\, la literatura\, el teatro\, el cine\, la música y la danza. \nSe incluirán espacios de diálogo entre artistas y psicoanalistas\, buscando trabajar conceptualmente\, encontrar zonas de cruce   y construir “ideas en tránsito”\, con el propósito de enriquecer a ambas disciplinas. \nA su vez\, estas actividades propician el reencuentro presencial\, entre nosotros y con la comunidad\, para afectar no solo con la palabra sino también con otros lenguajes y expresiones culturales. Creatividad que persigue encuentro libidinal\, ligazón con la teoría\, pero sobre todo ligazón con lo vital. \nSubcomisión Artes: Fernanda Cubría\, Ximena Malmierca\, Margarita Muniz\, Paula Rath\, Cecilia Romero.
URL:https://apuruguay.org/evento/literatura-y-psicoanalisis-voces-y-silencios-que-habitan-la-literatura-infantil-29-de-abril-2022-preparatoria-al-xi-congreso-inscribirse/
LOCATION:Sede de APU
CATEGORIES:Actividad Científica,Noticias
ATTACH;FMTTYPE=image/jpeg:https://apuruguay.org/wp-content/uploads/2022/03/BANNER-FINAL-29abril2022.jpg
ORGANIZER;CN="Comisi%C3%B3n Cient%C3%ADfica":MAILTO:congreso-2022-creatividad@apuruguay.org
END:VEVENT
END:VCALENDAR