BEGIN:VCALENDAR
VERSION:2.0
PRODID:-//APU - ECPv6.15.20//NONSGML v1.0//EN
CALSCALE:GREGORIAN
METHOD:PUBLISH
X-ORIGINAL-URL:https://apuruguay.org
X-WR-CALDESC:Eventos para APU
REFRESH-INTERVAL;VALUE=DURATION:PT1H
X-Robots-Tag:noindex
X-PUBLISHED-TTL:PT1H
BEGIN:VTIMEZONE
TZID:America/Montevideo
BEGIN:STANDARD
TZOFFSETFROM:-0300
TZOFFSETTO:-0300
TZNAME:-03
DTSTART:20210101T000000
END:STANDARD
END:VTIMEZONE
BEGIN:VEVENT
DTSTART;TZID=America/Montevideo:20220802T193000
DTEND;TZID=America/Montevideo:20220802T213000
DTSTAMP:20260423T113431
CREATED:20220722T195416Z
LAST-MODIFIED:20220725T162234Z
UID:16417-1659468600-1659475800@apuruguay.org
SUMMARY:CONVERSATORIO. Sueños\, angustias\, añoranzas… ¿Musas del proceso creador? 2/08/2022\, 19:30 hs. Salón de Actos\, Facultad de Psicología UdelaR
DESCRIPTION:Entrada libre. Sin inscripción previa. \n \n  \n 
URL:https://apuruguay.org/evento/conversatorio-suenos-angustias-anoranzas-musas-del-proceso-creador-2-de-agosto-2022-1930-hs-salon-de-actos-facultad-de-psicologia-udelar-entrada-libre/
CATEGORIES:Actividad Científica,Actividades preparatorias,Noticias
ATTACH;FMTTYPE=image/jpeg:https://apuruguay.org/wp-content/uploads/2022/07/conversatorio-prep-xi-congreso-fac-psicologia-450.jpg
END:VEVENT
BEGIN:VEVENT
DTSTART;VALUE=DATE:20220804
DTEND;VALUE=DATE:20220807
DTSTAMP:20260423T113431
CREATED:20220321T030054Z
LAST-MODIFIED:20220322T185838Z
UID:14083-1659571200-1659830399@apuruguay.org
SUMMARY:XI Congreso APU: 4\, 5 y 6 de agosto 2022. LA CREATIVIDAD\, ESA HUMANA EXPERIENCIA. Diálogos del psicoanálisis con otras disciplinas
DESCRIPTION:Plazos de presentación de trabajos\nSe extiende plazo para enviar intención de trabajo: 14/03. Características de presentación de la intención\nExtensión de plazo para entrega de trabajo completo: 16/05 \nENGLISH VERSION Call of papers \nLa creatividad marca presencia en los más tempranos tiempos del homo sapiens sobre el planeta. La sepultura y la pintura serán sus notas novedosas\, dando cuenta de la aparición de lo imaginario como una de las formas de percepción de la realidad y el surgimiento de todo un aparato mitológico-mágico para afrontar un destino marcado por la muerte. Coexistencia\, entonces\, del reconocimiento de la finitud y de la ilusión en un más allá de la muerte que la impugna. El estallido de la afectividad y el advenimiento de la desmesura son otras dos notas que caracterizan al proceso de hominización. Todo ello obligará al filósofo francés a afirmar: “Y puesto que llamamos locura a la conjunción de la ilusión\, la desmesura\, la inestabilidad\, la incertidumbre entre lo real y lo imaginario\, la confusión entre lo objetivo y lo subjetivo\, el error y el desorden\,  nos sentimos compelidos a ver al homo sapiens  como  homo demens”  (Morin\, 1992: 131). \nA pesar de sus remotas manifestaciones\, el concepto de creatividad parece escabullirse en todo intento por aprehenderlo y\, tal vez por eso mismo\, con frecuencia se desliza al de imaginación o al de originalidad.  Sin embargo\, la experiencia creativa no es privativa de unos pocos; es irremediablemente humana\, tanto que no podríamos renunciar a ella aunque así lo quisiéramos. Habita en nosotros. Y aunque el primero pueda ser un tema de antropólogos y éste de epistemólogos – invitados\, junto a otras disciplinas afines\, a este encuentro – nada de ello le es ajeno al psicoanálisis. \nUn primer motivo de esta convocatoria es el propio psicoanálisis como acto y proceso de creación: la fundación de una disciplina radicalmente nueva que se ha construido en un constante diálogo con el arte y la cultura (Gutiérrez\, 2014)\, pero asimismo con la ciencia a la que cuestiona y por la que a su vez es cuestionada. Sostener que son fuerzas inconscientes las que motivan el comportamiento humano resultó reñido con los principios científicos de la época\, las teorías del conocimiento y el concepto de verdad. Su carácter instituyente ha sido correlativo a una profusa producción teórica y a un engrosamiento de su malla institucional y sus prácticas. No obstante\, todo movimiento instituyente tiende a coagularse y revierte en condición de instituido. Por ello\, este evento científico es una oportunidad para re pensar el edificio construido – su historia\, sus fallas y sus potencialidades –\, contemplando el componente creativo del acto analítico (ocurrencias\, construcciones\, interpretaciones\, señalamientos). \nEl dispositivo psicoanalítico acompañó el afán innovador de sus preceptos\, sufrió sucesivos cambios y probablemente nunca asumió una forma definitiva. El riesgo de anquilosarse fue desbaratado por la creciente diversificación y cobertura alcanzada\, reservada en un comienzo a los neuróticos adultos. Hoy corresponde que hablemos en plural; las prácticas psicoanalíticas son testimonio de un espíritu creador que sigue latiendo en el seno de una institución de alcance internacional. La pandemia por Covid 19 ha puesto a prueba dicha afición por el cambio y este congreso será otra ocasión para sumar reflexión al respecto. \nEl protagonismo de la creatividad gana mayor evidencia cuando se trata de la fabricación de objetos culturales vinculados a la plástica\, la literatura\, la música y demás dominios de la esfera artística. Pero también está presente cuando se considera la relación con el saber (saber sobre el sí mismo y sobre el mundo)\, en su faz positiva o negativa (lo sabido y lo ignorado\, lo conocido y lo desconocido\, lo recordado y lo olvidado). Desde el punto de vista ontogenético su comparecencia es precoz y\, en particular\, con el advenimiento de la función semiótica en la primera infancia. Es elocuente en el juego\, el dibujo\, la imitación diferida\, el lenguaje… Una situación paradigmática es la paradójica constitución del objeto transicional\, esa metáfora a mitad de camino. E incluso podríamos añadir que la actividad representacional no muestra fidelidad a la realidad\, no la reproduce\, la (re)crea. Entre tantas pruebas\, en definitiva\, nada es más elocuente que las formaciones del inconsciente en cuanto a creatividad se refiere: el sueño\, el síntoma\, el acto fallido\, el chiste. Por lo tanto\, no solo la sublimación como destino de pulsión desviada de sus fines sexuales se nos presenta como proceso que está en la base de las actividades creativas. \nBrindamos a continuación cinco ejes temáticos y sus respectivos contenidos en torno a los cuales se organizará la actividad científica propuesta. La amplitud del surtido se debe al interés por acoger diversos intereses y campos del saber a explorar\, aunque no por ello impide la inclusión de eventuales propuestas no mencionadas: \nEl movimiento psicoanalítico y sus novelas \n\nLa fundación del psicoanálisis como emergencia epistemológica.\nHistorias del movimiento psicoanalítico: instituidos e instituyentes.\nCreación de teorías en el seno del movimiento psicoanalítico.\nLa transmisión del psicoanálisis como acontecimiento discursivo e intersubjetivo.\n\nPrácticas psicoanalíticas \n\nEl encuentro analista – paciente: entre la repetición y lo novedoso.\nEncuadres psicoanalíticos en pandemia.\nLas producciones del inconsciente como creaciones del pensamiento. La creatividad del soñante.\nConstrucciones en análisis: el analista como escritor.\nInnovaciones técnicas y conceptuales al dispositivo clásico.\n\nSociedad\, Cultura y Psicoanálisis \n\nJuego y creatividad.\nLiteratura y psicoanálisis.\nLiteratura infantil y expansión de la capacidad simbólica.\nArte y psicoanálisis.\nLa pandemia y sus derivas creativas (v. gr. humor en pandemia).\nHerencia\, heterogeneidad y creación.\nCambios culturales y epocales.\nLa invención de los ideales.\nExtensiones del psicoanálisis: trabajo en comunidad.\n\nCuerpo y creatividad \n\nSexualidad y creatividad.\nLa creatividad femenina y su relación con la maternidad… 71 años después de “Maternidad y sexo”.\nCuerpo labrado\, cuerpo intervenido: ¿nuevas ofertas o nuevos mandatos?\n\nPensar\, Imaginar\, Saber… \n\nLa imaginación humana: hallazgos\, encorsetamientos y desvíos.\nLa construcción de la alteridad como condición del pensamiento.\nSublimación\, pensamiento\, reflexión.\nCreencia\, conocimiento\, saber y verdad.\nEl pensamiento científico: condiciones de posibilidad.\nProducción y transmisión de conocimientos. El psicoanálisis como género discursivo.\n\nLos autores de los trabajos que se presenten en el congreso deberán inscribirse. \nSecretaría organizativa del congreso: Sra. Beatriz González\, Lic. Néstor Gamarra\n congreso-2022-creatividad@apuruguay.org \n\nInscripciones \nSerán 100% online\, incluyendo el pago.\n \nFormas de Pago\nVISA\, OCA y MasterCard emitidas en Uruguay: hasta 6 pagos.\nRedpagos: Contado. \nVisa y MasterCard emitidas fuera de Uruguay: en 1 pago. \nFormularios de inscripción y pago\nFormulario inscripción XI Congreso residente en Uy\nFormulario inscripción XI Congreso no residente. \nEvento declarado de interés ministerial por parte del Ministerio de Educación y Cultura y del Ministerio de Turismo. \nOrganiza Comisión Científica de APU: Alicia Kachinovsky (Directora)\, Graciela Baeza\, Silvia Caram\, Fernanda Cubría\, Ilana Luksenburg\, Verónica Mangarelli\, Susana Martínez\, Amelia Mas\, Javier Peluffo\, Paula Rath\, Romina Ruiz.
URL:/xi-congreso-apu-4-5-y-6-de-agosto-2022/
CATEGORIES:Actividad Científica,Actividades,Noticias
ATTACH;FMTTYPE=image/jpeg:https://apuruguay.org/wp-content/uploads/2022/02/afiche-xi-congreso-apu-2022-750.jpg
ORGANIZER;CN="Comisi%C3%B3n Cient%C3%ADfica":MAILTO:congreso-2022-creatividad@apuruguay.org
END:VEVENT
BEGIN:VEVENT
DTSTART;TZID=America/Montevideo:20220804T190000
DTEND;TZID=America/Montevideo:20220804T210000
DTSTAMP:20260423T113431
CREATED:20220804T135415Z
LAST-MODIFIED:20220804T150644Z
UID:16589-1659639600-1659646800@apuruguay.org
SUMMARY:Transmisión en vivo APERTURA-PANEL INAUGURAL XI Congreso "LA CREATIVIDAD\, ESA HUMANA EXPERIENCIA..."
DESCRIPTION:Salón de Actos Facultad de Psicología UdelaR \nTransmisión en vivo por canal YouTube APU \n \n 
URL:https://apuruguay.org/evento/transmision-en-vivo-apertura-panel-inaugural-xi-congreso-la-creatividad-esa-humana-experiencia/
LOCATION:Salón de Actos Facultad de Psicología UdelaR
CATEGORIES:Actividad Científica,Noticias
ATTACH;FMTTYPE=image/jpeg:https://apuruguay.org/wp-content/uploads/2022/08/placa-apertura-xi-congreso-apu-800.jpg
END:VEVENT
BEGIN:VEVENT
DTSTART;TZID=America/Montevideo:20220806T163000
DTEND;TZID=America/Montevideo:20220806T183000
DTSTAMP:20260423T113431
CREATED:20220804T145906Z
LAST-MODIFIED:20220804T151214Z
UID:16594-1659803400-1659810600@apuruguay.org
SUMMARY:Transmisión en vivo PANEL - PALABRAS DE CIERRE XI Congreso "LA CREATIVIDAD\, ESA HUMANA EXPERIENCIA..."
DESCRIPTION:Paraninfo de la UdelaR \nTransmisión en vivo por canal YouTube APU \n \n 
URL:https://apuruguay.org/evento/transmision-en-vivo-panel-palabras-de-cierre-xi-congreso-la-creatividad-esa-humana-experiencia/
LOCATION:Paraninfo de la UdelaR
CATEGORIES:Actividad Científica,Noticias
ATTACH;FMTTYPE=image/jpeg:https://apuruguay.org/wp-content/uploads/2022/08/placa-cierre-xi-congreso-apu-800.jpg
ORGANIZER;CN="Comisi%C3%B3n Cient%C3%ADfica":MAILTO:congreso-2022-creatividad@apuruguay.org
END:VEVENT
BEGIN:VEVENT
DTSTART;TZID=America/Montevideo:20220812T090000
DTEND;TZID=America/Montevideo:20220812T110000
DTSTAMP:20260423T113431
CREATED:20220809T210028Z
LAST-MODIFIED:20220809T211524Z
UID:16642-1660294800-1660302000@apuruguay.org
SUMMARY:Ecos del Congreso. 12 de agosto 2022
DESCRIPTION:Imagen: Creación de Carlos Kachinovsky. \n  \nActividad cerrada. \n9 a 11 horas\, presencial\, sede de APU\, más Zoom. \nCoordina Dra. Alicia Kachinovsky\, Directora de la Comisión Científica. \nEsta actividad forma parte del Ciclo: La creatividad\, esa humana experiencia
URL:https://apuruguay.org/evento/ecos-del-congreso-12-de-agosto-2022/
LOCATION:Sede de APU
CATEGORIES:Actividad Científica
ATTACH;FMTTYPE=image/jpeg:https://apuruguay.org/wp-content/uploads/2022/08/creacion-carlos-kachinovsky.jpg
END:VEVENT
BEGIN:VEVENT
DTSTART;TZID=America/Montevideo:20220819T090000
DTEND;TZID=America/Montevideo:20220819T110000
DTSTAMP:20260423T113431
CREATED:20220809T211044Z
LAST-MODIFIED:20220815T214538Z
UID:16649-1660899600-1660906800@apuruguay.org
SUMMARY:Conversaciones entre-textos. De la narrativa al escenario. Actividad científica 19/08/2022
DESCRIPTION:Imagen: creación de Carlos Kachinovsky. \n\nViernes 19 de agosto de 2022\, 9 a 11 horas. Sede de APU\nConversaciones entre-textos. De la narrativa al escenario.\nActividad científica abierta con inscripción previa. Presencial + Zoom  \nFormulario de inscripción \nPresentan \nLeonor Courtoisie\, artista; creadora escénica\, actriz y escritora. Breve CV \nSerena Araújo\, actriz. Breve CV \nLic. Psic. Margarita Muñiz (Analista en formación\, IUPP) \nCoordina Dra. Alicia Kachinovsky\, Directora de la Comisión Científica. \nSe sugiere leer previo a la actividad «La mujer desnuda» de Armonía Somers. \n  \nEsta actividad forma parte del Ciclo: La creatividad\, esa humana experiencia.
URL:https://apuruguay.org/evento/actividad-cientifica-19-de-agosto-2022-9-hs/
LOCATION:Presencial\, sede de APU + Zoom
CATEGORIES:Actividad Científica
ATTACH;FMTTYPE=image/jpeg:https://apuruguay.org/wp-content/uploads/2022/08/creacion-carlos-kachinovsky.jpg
ORGANIZER;CN="Comisi%C3%B3n Cient%C3%ADfica":MAILTO:congreso-2022-creatividad@apuruguay.org
END:VEVENT
END:VCALENDAR