BEGIN:VCALENDAR
VERSION:2.0
PRODID:-//APU - ECPv6.15.20//NONSGML v1.0//EN
CALSCALE:GREGORIAN
METHOD:PUBLISH
X-WR-CALNAME:APU
X-ORIGINAL-URL:https://apuruguay.org
X-WR-CALDESC:Eventos para APU
REFRESH-INTERVAL;VALUE=DURATION:PT1H
X-Robots-Tag:noindex
X-PUBLISHED-TTL:PT1H
BEGIN:VTIMEZONE
TZID:America/Montevideo
BEGIN:STANDARD
TZOFFSETFROM:-0300
TZOFFSETTO:-0300
TZNAME:-03
DTSTART:20210101T000000
END:STANDARD
END:VTIMEZONE
BEGIN:VEVENT
DTSTART;TZID=America/Montevideo:20221104T090000
DTEND;TZID=America/Montevideo:20221104T110000
DTSTAMP:20260423T041248
CREATED:20220929T180804Z
LAST-MODIFIED:20221013T192610Z
UID:16977-1667552400-1667559600@apuruguay.org
SUMMARY:"Proyecto de Ley de Educación Emocional" ¿Cómo nos posicionamos los psicoanalistas? 4/11/22. Cerrada
DESCRIPTION:Foto de Ana María Ruiz. \nViernes 4 de noviembre de 2022\, 9 a 11 hs. Sede de APU\nActividad científica cerrada. Presencial + Zoom. \n«Proyecto de Ley de Educación Emocional» ¿Cómo nos posicionamos los psicoanalistas?\nPresenta Psicoanalista María Cecilia Rodríguez da Silveira (APU).\nAcompaña y participa el Laboratorio de Niños de APU. \nLey Nº 18437\, ley general de educación. Info\nBibliografía propuesta para leer previamente. Info \nCoordina Dra. Alicia Kachinovsky\, Directora de la Comisión Científica de APU. \nActividad del Ciclo Interrogantes sociales contemporáneos. Intercambios entre el psicoanálisis y otros saberes. Octubre – Noviembre 2022. Info
URL:https://apuruguay.org/evento/proyecto-de-ley-de-educacion-emocional-como-nos-posicionamos-los-psicoanalistas-4-11-22-cerrada/
LOCATION:Presencial\, sede de APU + Zoom
CATEGORIES:Actividad Científica,Actividades,Noticias
ATTACH;FMTTYPE=image/jpeg:https://apuruguay.org/wp-content/uploads/2022/09/ciclo-interdisciplina-oct-22.jpg
ORGANIZER;CN="Comisi%C3%B3n Cient%C3%ADfica":MAILTO:congreso-2022-creatividad@apuruguay.org
END:VEVENT
BEGIN:VEVENT
DTSTART;TZID=America/Montevideo:20221118T090000
DTEND;TZID=America/Montevideo:20221118T110000
DTSTAMP:20260423T041248
CREATED:20220929T181653Z
LAST-MODIFIED:20221110T160639Z
UID:16979-1668762000-1668769200@apuruguay.org
SUMMARY:Genética\, ambiente y salud. Qué es al interior y al exterior. 18/11/22. Abierta
DESCRIPTION:Foto de Ana María Ruiz. \nViernes 18 de noviembre de 2022\, 9 a 11 hs. Sede de APU\nActividad científica abierta. \nPresencial + Zoom\, con inscripción previa. Formulario de Inscripción \nGenética\, ambiente y salud. Qué es al interior y al exterior.\nDiálogo con el  Dr. Víctor Penchaszadeh\nFamilia tradicional y lazo social en la actualidad. Lo singular y lo colectivo en la diversidad sexual. Celebración\, violencia y prohibición en la civilización actual.  \nInterlocutores: Psicoanalista Marcelo Viñar (Miembro de Honor de APU) y Grupo de Estudio de APU “Efectos de los cambios societarios y culturales en nuestra práctica y reflexión psicoanalítica”. \nIntegrantes del Grupo: Marcelo Viñar\, Eurídice de Mello\, Luis Bibbó\, Ana María Rumi\, Silvia Pesquera\, Virginia Masse\, Tatiana Santander\, Amparo Luraschi. \nTrabajos del Dr. Víctor Penchaszadeh (Universidad Nacional de Tres de Febrero\, Buenos Aires\, Argentina). Breve CV \n\nReflexiones de un genetista sobre la influencia de los genes en los trastornos psiquiátricos. Leer trabajo\nInfluencias genéticas y ambientales en el desarrollo humano. Leer trabajo\n\nCoordina Dra. Alicia Kachinovsky\, Directora de la Comisión Científica de APU. \nActividad del Ciclo Interrogantes sociales contemporáneos. Intercambios entre el psicoanálisis y otros saberes. Octubre – Noviembre 2022. Info
URL:https://apuruguay.org/evento/genetica-ambiente-y-salud-que-es-al-interior-y-al-exterior-dialogo-con-victor-penchaszadeh-18-11-22-abierta/
LOCATION:Presencial\, sede de APU + Zoom
CATEGORIES:Actividad Científica,Actividades,Noticias
ATTACH;FMTTYPE=image/jpeg:https://apuruguay.org/wp-content/uploads/2022/09/ciclo-interdisciplina-oct-22.jpg
ORGANIZER;CN="Comisi%C3%B3n Cient%C3%ADfica":MAILTO:congreso-2022-creatividad@apuruguay.org
END:VEVENT
END:VCALENDAR