BEGIN:VCALENDAR
VERSION:2.0
PRODID:-//APU - ECPv6.15.20//NONSGML v1.0//EN
CALSCALE:GREGORIAN
METHOD:PUBLISH
X-ORIGINAL-URL:https://apuruguay.org
X-WR-CALDESC:Eventos para APU
REFRESH-INTERVAL;VALUE=DURATION:PT1H
X-Robots-Tag:noindex
X-PUBLISHED-TTL:PT1H
BEGIN:VTIMEZONE
TZID:America/Montevideo
BEGIN:STANDARD
TZOFFSETFROM:-0300
TZOFFSETTO:-0300
TZNAME:-03
DTSTART:20220101T000000
END:STANDARD
END:VTIMEZONE
BEGIN:VEVENT
DTSTART;TZID=America/Montevideo:20230804T090000
DTEND;TZID=America/Montevideo:20230804T110000
DTSTAMP:20260422T154017
CREATED:20230726T143538Z
LAST-MODIFIED:20230726T143538Z
UID:18565-1691139600-1691146800@apuruguay.org
SUMMARY:Actividad científica 4 de agosto de 2023. Cerrada
DESCRIPTION:
URL:https://apuruguay.org/evento/actividad-cientifica-4-de-agosto-de-2023-cerrada/
LOCATION:Presencial\, sede de APU + Zoom
CATEGORIES:Actividad Científica
ATTACH;FMTTYPE=image/jpeg:https://apuruguay.org/wp-content/uploads/2023/07/flyer-4-ago-23-paula-lopez-400.jpg
END:VEVENT
BEGIN:VEVENT
DTSTART;TZID=America/Montevideo:20230804T090000
DTEND;TZID=America/Montevideo:20230804T110000
DTSTAMP:20260422T154017
CREATED:20230726T144425Z
LAST-MODIFIED:20230915T160445Z
UID:18586-1691139600-1691146800@apuruguay.org
SUMMARY:Calendario de actividades científicas Agosto - Setiembre 2023
DESCRIPTION:DERIVAS CIENTÍFICAS  \nCALENDARIO DE ACTIVIDADES AGOSTO – SETIEMBRE 2023 Video de presentación \n  \nVIERNES 4 de AGOSTO \nEspacio Psicoanálisis Clínico \nPaula López presenta su trabajo: “Oyendo la música en las palabras de Francisca”.  Comentarios de Aurora Polto. \nActividad cerrada. \n  \nVIERNES 11 de AGOSTO \nACTIVIDAD PREPARATORIA DE LAS JORNADAS DEL INSTITUTO: “LA TRANSMISIÓN DEL PSICOANÁLISIS EN LOS INSTITUTOS DE FORMACIÓN.  Aspectos inconscientes en los diferentes espacios de formación de los analistas” \nDamián Schroeder y Daniel Castillo presentan un trabajo conjunto sobre Transmisión. Comenta Clara Uriarte. \nActividad cerrada. \n  \nVIERNES 18 de AGOSTO- SÁBADO 19 de AGOSTO \nJORNADAS DE ENSEÑANZA DEL INSTITUTO: “LA TRANSMISIÓN DEL PSICOANÁLISIS EN LOS INSTITUTOS DE FORMACIÓN.  Aspectos inconscientes en los diferentes espacios de formación de los analistas” \n  \nCICLO ESCRIBIR PSICOANÁLISIS \nVIERNES 1° de SETIEMBRE \nEspacio Psicoanálisis Clínico-Ciclo Escribir Psicoanálisis x 1  \nGabriela Levy presenta su trabajo de Miembro Asociado «Fragmentos de un análisis. Entre duelo y Edipo»\, que contará con los comentarios de Javier García. \nActividad cerrada. \n  \nVIERNES 8 de SETIEMBRE \nEspacio Psicoanálisis por Psicoanalistas- Ciclo Escribir Psicoanálisis x 2 \nNatalia Mirza presenta su trabajo “La (im)posible escritura de la escena analítica.”  Comentarios e interlocución Magdalena Filgueira. \nActividad abierta. \n  \n  \nVIERNES 15 de SETIEMBRE \nEspacio Psicoanálisis e Hibridez- Ciclo Escribir Psicoanálisis x 3 \nSOLTAR LA PLUMA \nGrupo Escritura y Psicoanálisis. \nIntegrantes: Claudio Danza\, Gladys Franco\, Amparo Luraschi\, Ximena Méndez\, Margarita Muñiz\, Anabel Rodríguez y José Manuel Rodríguez. \nActividad abierta. \n  \nVIERNES 22 de SETIEMBRE \nEspacio Psicoanálisis por Psicoanalistas- Escribir Psicoanálisis x 4 \nESCRITOS EN FORMACIÓN \nAnalistas en Formación presentan textos y materiales sobre la experiencia de escritura de los trabajos teórico-clínicos.  Coordinan Fernando García Press y Gabriela Levy. \nActividad cerrada.
URL:https://apuruguay.org/evento/calendario-de-actividades-cientificas-agosto-setiembre-2023/
CATEGORIES:Actividad Científica
END:VEVENT
BEGIN:VEVENT
DTSTART;TZID=America/Montevideo:20230811T090000
DTEND;TZID=America/Montevideo:20230811T110000
DTSTAMP:20260422T154017
CREATED:20230802T161307Z
LAST-MODIFIED:20230809T130029Z
UID:18615-1691744400-1691751600@apuruguay.org
SUMMARY:Actividad científica 11 de agosto de 2023. Cerrada
DESCRIPTION:  \n \n  \n 
URL:https://apuruguay.org/evento/actividad-cientifica-11-de-agosto-de-2023-cerrada-2/
LOCATION:Presencial\, sede de APU + Zoom
CATEGORIES:Actividad Científica
ATTACH;FMTTYPE=image/jpeg:https://apuruguay.org/wp-content/uploads/2023/08/WhatsApp-Image-2023-08-07-at-9.37.06-AM-1.jpeg
END:VEVENT
END:VCALENDAR