BEGIN:VCALENDAR
VERSION:2.0
PRODID:-//APU - ECPv6.15.20//NONSGML v1.0//EN
CALSCALE:GREGORIAN
METHOD:PUBLISH
X-ORIGINAL-URL:https://apuruguay.org
X-WR-CALDESC:Eventos para APU
REFRESH-INTERVAL;VALUE=DURATION:PT1H
X-Robots-Tag:noindex
X-PUBLISHED-TTL:PT1H
BEGIN:VTIMEZONE
TZID:America/Montevideo
BEGIN:STANDARD
TZOFFSETFROM:-0300
TZOFFSETTO:-0300
TZNAME:-03
DTSTART:20220101T000000
END:STANDARD
END:VTIMEZONE
BEGIN:VEVENT
DTSTART;TZID=America/Montevideo:20230901T090000
DTEND;TZID=America/Montevideo:20230901T110000
DTSTAMP:20260422T141149
CREATED:20230823T152857Z
LAST-MODIFIED:20230823T174406Z
UID:18781-1693558800-1693566000@apuruguay.org
SUMMARY:Tercer Ciclo del año 2023:  ESCRIBIR PSICOANÁLISIS
DESCRIPTION:Con mucha alegría comenzaremos el próximo viernes el Tercer Ciclo del año:\nESCRIBIR PSICOANÁLISIS. \nInvitamos a ver el siguiente clip audiovisual con los reencuentros! \nLos esperamos en las actividades abiertas. \n(Zoom disponible para quienes así lo requieran). \nEquipo de Derivas Científicas 2023 \n 
URL:https://apuruguay.org/evento/tercer-ciclo-del-ano-2023-escribir-psicoanalisis/
LOCATION:Presencial\, sede de APU + Zoom
CATEGORIES:Actividad Científica,Noticias
ATTACH;FMTTYPE=image/jpeg:https://apuruguay.org/wp-content/uploads/2023/08/tercer-ciclo-cient-2023-slider.jpg
ORGANIZER;CN="Comisi%C3%B3n Cient%C3%ADfica":MAILTO:congreso-2022-creatividad@apuruguay.org
END:VEVENT
BEGIN:VEVENT
DTSTART;TZID=America/Montevideo:20230901T090000
DTEND;TZID=America/Montevideo:20230901T110000
DTSTAMP:20260422T141149
CREATED:20230823T170656Z
LAST-MODIFIED:20230823T175312Z
UID:18794-1693558800-1693566000@apuruguay.org
SUMMARY:Tercer Ciclo del año 2023:  ESCRIBIR PSICOANÁLISIS. 1/9 Presentación del trabajo de asociado de Gabriela Levy
DESCRIPTION:Con mucha alegría comenzaremos el próximo viernes el Tercer Ciclo del año:\nESCRIBIR PSICOANÁLISIS. \nLes invitamos a ver el siguiente clip audiovisual\, donde están datadas las actividades que forman parte del mismo\, las cuales\, como venimos haciendo hasta el momento\, tienen diferentes instancias. \nLa primera de ellas está centrada en el Psicoanálisis Clínico\, con la presentación del Trabajo de Asociado de Gabriela Levy y los comentarios de Javier García; la siguiente y la última pertenecen al espacio de Psicoanálisis por Psicoanalistas\, contando por un lado con el trabajo de Natalia Mirza Labraga y los comentarios de Magdalena Filgueira y\, por otro con las presentaciones de Analistas en Formación que comparten sus inquietudes\, dificultades y hallazgos a la hora de escribir a lo largo de la formación en el Instituto. \nFinalmente\, la presentación del grupo de Escritura y Psicoanálisis que coordina Gladys Franco\, incursiona en la zona de hibridez\, en la que el psicoanálisis habita la escritura poética y literaria y viceversa. \n¡Los esperamos en nuestra casa para continuar con los reencuentros! \n(Zoom disponible para quienes así lo requieran). \nEquipo de Derivas Científicas 2023 \n 
URL:https://apuruguay.org/evento/tercer-ciclo-del-ano-2023-escribir-1-9-presentacion-ta-g-levy-psicoanalisis-2/
LOCATION:Presencial\, sede de APU + Zoom
CATEGORIES:Actividad Científica,Noticias
ATTACH;FMTTYPE=image/jpeg:https://apuruguay.org/wp-content/uploads/2023/08/cient-1-set-23-g-levy-400.jpg
ORGANIZER;CN="Comisi%C3%B3n Cient%C3%ADfica":MAILTO:congreso-2022-creatividad@apuruguay.org
END:VEVENT
BEGIN:VEVENT
DTSTART;TZID=America/Montevideo:20230908T090000
DTEND;TZID=America/Montevideo:20230908T110000
DTSTAMP:20260422T141149
CREATED:20230830T203624Z
LAST-MODIFIED:20230831T151553Z
UID:18829-1694163600-1694170800@apuruguay.org
SUMMARY:Actividad científica 8 de setiembre 2023\, 9 hs. Presenta N. Mirza. Interlocución M. Filgueira. Abierta
DESCRIPTION:Leer trabajo de la Psicoanalista Natalia Mirza. Info \nLeer comentarios de la Psicoanalista Magdalena Filgueira. Info \nDatos para acceder por Zoom\, para participantes desde el interior de Uruguay y desde el exterior:\nhttps://us02web.zoom.us/j/83140778434?pwd=NnQ3cWx3UzV5ODFaMEE0TkJSbXZtdz09\nID de reunión: 831 4077 8434\nCódigo de acceso: reucien
URL:https://apuruguay.org/evento/actividad-cientifica-8-de-setiembre-2023-9-hs-presenta-n-mirza-interlocucion-m-filgueira-abierta/
LOCATION:Presencial\, sede de APU + Zoom
CATEGORIES:Actividad Científica
ATTACH;FMTTYPE=image/jpeg:https://apuruguay.org/wp-content/uploads/2023/08/cient-8-set-23-n-mirza-m-filgueira-400.jpg
ORGANIZER;CN="Comisi%C3%B3n Cient%C3%ADfica":MAILTO:congreso-2022-creatividad@apuruguay.org
END:VEVENT
BEGIN:VEVENT
DTSTART;TZID=America/Montevideo:20230915T090000
DTEND;TZID=America/Montevideo:20230915T110000
DTSTAMP:20260422T141149
CREATED:20230906T185526Z
LAST-MODIFIED:20230906T190711Z
UID:18861-1694768400-1694775600@apuruguay.org
SUMMARY:Actividad científica 15 de setiembre 2023\, 9 hs. "Soltar la pluma". Abierta
DESCRIPTION:Los esperamos el viernes en la tercera actividad del CICLO ESCRIBIR PSICOANÁLISIS. \nEn esta oportunidad\, contaremos con la presencia de Gladys Franco y el grupo que coordina\, de Escritura y Psicoanálisis. \nSe envía a continuación un texto de su autoría\, que no se va a leer en el momento\, pero que tomamos como insumo y estímulo para la actividad.  En la misma\, distintos integrantes del grupo presentarán sus producciones escritas. Leer texto \nContamos con ustedes para disfrutar e intervenir! \nComisión Científica \nDatos para acceder por Zoom\, para participantes desde el interior de Uruguay y desde el exterior:\nhttps://us02web.zoom.us/j/83140778434?pwd=NnQ3cWx3UzV5ODFaMEE0TkJSbXZtdz09\nID de reunión: 831 4077 8434\nCódigo de acceso: reucien
URL:https://apuruguay.org/evento/actividad-cientifica-15-de-setiembre-2023-abierta/
LOCATION:Presencial\, sede de APU + Zoom
CATEGORIES:Actividad Científica
ATTACH;FMTTYPE=image/jpeg:https://apuruguay.org/wp-content/uploads/2023/09/15-09-23-cient-soltar-la-pluma-400.jpg
ORGANIZER;CN="Comisi%C3%B3n Cient%C3%ADfica":MAILTO:congreso-2022-creatividad@apuruguay.org
END:VEVENT
BEGIN:VEVENT
DTSTART;TZID=America/Montevideo:20230922T090000
DTEND;TZID=America/Montevideo:20230922T110000
DTSTAMP:20260422T141149
CREATED:20230914T171227Z
LAST-MODIFIED:20230914T171236Z
UID:18912-1695373200-1695380400@apuruguay.org
SUMMARY:Actividad científica 22 de setiembre 2023\, 9 hs. ESCRITOS EN FORMACIÓN. Cerrada
DESCRIPTION:
URL:https://apuruguay.org/evento/actividad-cientifica-22-de-setiembre-2023-9-hs-escritos-en-formacion-cerrada/
LOCATION:Presencial\, sede de APU + Zoom
CATEGORIES:Actividad Científica
ATTACH;FMTTYPE=image/jpeg:https://apuruguay.org/wp-content/uploads/2023/09/cient-22-set-23-grafapu-400.jpg
ORGANIZER;CN="Comisi%C3%B3n Cient%C3%ADfica":MAILTO:congreso-2022-creatividad@apuruguay.org
END:VEVENT
END:VCALENDAR