BEGIN:VCALENDAR
VERSION:2.0
PRODID:-//APU - ECPv6.15.20//NONSGML v1.0//EN
CALSCALE:GREGORIAN
METHOD:PUBLISH
X-WR-CALNAME:APU
X-ORIGINAL-URL:https://apuruguay.org
X-WR-CALDESC:Eventos para APU
REFRESH-INTERVAL;VALUE=DURATION:PT1H
X-Robots-Tag:noindex
X-PUBLISHED-TTL:PT1H
BEGIN:VTIMEZONE
TZID:America/Montevideo
BEGIN:STANDARD
TZOFFSETFROM:-0300
TZOFFSETTO:-0300
TZNAME:-03
DTSTART:20230101T000000
END:STANDARD
END:VTIMEZONE
BEGIN:VEVENT
DTSTART;TZID=America/Montevideo:20240405T090000
DTEND;TZID=America/Montevideo:20240405T110000
DTSTAMP:20260422T024626
CREATED:20240321T214601Z
LAST-MODIFIED:20240321T215413Z
UID:19854-1712307600-1712314800@apuruguay.org
SUMMARY:Actividad científica 5/4/2024. Comentarios históricos de la exhibición del Museo Freud de Londres. Abierta
DESCRIPTION:Sobre la exposición de Londres \n\n\nExhibición en el Museo de Freud de Londres del 17/01/24 al 14/07/24. Info\nArtículo de «The Guardian» Freud exhibition delves into a dramatic legacy in Latin America. Info\n\n\nTrabajo de M. Ruperthuz “Algunas reflexiones sobre el concepto de pionero en la historia del psicoanálisis: examen de una estrategia historiográfica” (este trabajo no será en el que se enfoque la presentación). Info \n 
URL:https://apuruguay.org/evento/actividad-cientifica-5-4-2024-comentarios-historicos-de-la-exhibicion-del-museo-freud-de-londres-abierta/
LOCATION:Presencial\, sede de APU + Zoom
CATEGORIES:Actividad Científica,Actividades,Noticias
ATTACH;FMTTYPE=image/png:https://apuruguay.org/wp-content/uploads/2024/03/Feed-DerivasAbril_FreudAmerica-5-abr-24-400.png
ORGANIZER;CN="Comisi%C3%B3n Cient%C3%ADfica":MAILTO:congreso-2022-creatividad@apuruguay.org
END:VEVENT
BEGIN:VEVENT
DTSTART;TZID=America/Montevideo:20240412T090000
DTEND;TZID=America/Montevideo:20240412T110000
DTSTAMP:20260422T024626
CREATED:20240403T190252Z
LAST-MODIFIED:20240403T190252Z
UID:19977-1712912400-1712919600@apuruguay.org
SUMMARY:Actividad científica 12/4/2024. Psicoanálisis y Hospitales. Memorias y Vigencias. Abierta
DESCRIPTION:El Centro de Intercambio “CDI Pola Hoffnung” invita a esta actividad científica donde haremos un recorrido entre Memorias y Vigencias de lo que ha sido y sigue siendo una larga tradición de APU\, la participación de los psicoanalistas en distintos espacios de asistencia\, enseñanza y formación\, compartidos con los psiquiatras\, residentes y postgrados\, en el marco de los Hospitales Públicos. \nLa realización y presentación estará a cargo de Andrea Storch (IUPP)\, Stella García (APU) y José Manuel Rodríguez (APU).
URL:https://apuruguay.org/evento/actividad-cientifica-12-4-2024-psicoanalisis-y-hospitales-memorias-y-vigencias-abierta/
LOCATION:Presencial\, sede de APU + Zoom
CATEGORIES:Actividad Científica,Centro de Intercambio
ATTACH;FMTTYPE=image/png:https://apuruguay.org/wp-content/uploads/2024/04/Psic-y-hospitales12-4-24-destacada.png
END:VEVENT
BEGIN:VEVENT
DTSTART;TZID=America/Montevideo:20240419T090000
DTEND;TZID=America/Montevideo:20240419T110000
DTSTAMP:20260422T024626
CREATED:20240410T190125Z
LAST-MODIFIED:20240412T140001Z
UID:20022-1713517200-1713524400@apuruguay.org
SUMMARY:CICLO CUERPOS. Preparatorio del XII Congreso. Actividad científica 19/4/2024. De qué cuerpo hablamos en 2024?
DESCRIPTION:¿De qué cuerpo hablamos en 2024? \nPara esta actividad contaremos con la presencia del Dr. en Ciencias Humanas Raumar Rodríguez Giménez\, quien trabajará desarrollando algunas reflexiones en torno a la cuestión política y teórica de la “construcción del objeto cuerpo” y su lugar en una sociedad y cultura determinada; y la Magister en Antropología Social Psic. Verónica Pérez\, que aborda los procesos de construcción de la alteridad en sujetos migrantes\, particularmente aquellos provenientes de América Latina y el Caribe que residen en la ciudad de Montevideo. \n  \nACERCA DE LOS EXPOSITORES \n– Raumar Rodríguez Giménez\nDoctor en Ciencias Humanas (UFSC). Magíster en Enseñanza Universitaria (Universidad de la República). Licenciado en Ciencias de la Educación (FHCE\, Udelar). Profesor de Educación Física (ISEF\, CNEF – MEC). Profesor en Régimen de Dedicación Total en Udelar. Prof. Agdo. del Departamento de Educación Física y Prácticas Corporales (ISEF\, Udelar). Prof. Adj. del Instituto de Educación (FHCE\, Udelar). Co-coordinador del Grupo de Investigación Cuerpo\, Educación y Enseñanza (2016-actual). Co-Coordinador del Grupo Lenguaje\, Sujeto\, Saber (2017-actual). Investigador activo del Sistema Nacional de Investigación (ANII)\, desde 2009. Coordinador del Programa de Maestría en Ciencias Humanas (Facultad de Humanidades y Ciencias de la Educación\, Udelar). \n– Verónica Pérez Horvath\nMagister en Antropología Social (UFRGS).  Especialista en Psicología Clínica (UFRGS)\, Doctoranda en Psicología (Udelar)\, Licenciada en Psicología (Udelar).  Docente del Instituto de Psicología Clínica de Facultad de Psicología (actual\, Udelar).  Coordinadora del Proyecto de Inclusión Social Inmigración e inclusión social; Co-Coordinadora del proyecto I + D\, CSIC\, Etnografías de frontera: movilidad en torno al límite político Uruguay-Brasil (2023\, actual).  Psicoanalista con práctica clínica en Uruguay y Brasil. \nVer CICLO CUERPOS. Info \n 
URL:https://apuruguay.org/evento/actividad-cientifica-19-4-2024-de-que-cuerpo-hablamos-en-2024-preparatoria-xii-congreso/
LOCATION:Presencial\, sede de APU + Zoom
CATEGORIES:Actividad Científica,Noticias
ATTACH;FMTTYPE=image/png:https://apuruguay.org/wp-content/uploads/2024/04/19-4-24-Feed—DerivaCientifica-PREPARATORIO_03-400.png
ORGANIZER;CN="Comisi%C3%B3n Cient%C3%ADfica":MAILTO:congreso-2022-creatividad@apuruguay.org
END:VEVENT
BEGIN:VEVENT
DTSTART;TZID=America/Montevideo:20240419T090000
DTEND;TZID=America/Montevideo:20240419T110000
DTSTAMP:20260422T024626
CREATED:20240410T191135Z
LAST-MODIFIED:20240516T163512Z
UID:20026-1713517200-1713524400@apuruguay.org
SUMMARY:Presentación Ciclo CUERPOS. Preparatorio del XII Congreso de APU. Calendario de actividades científicas.  Abiertas e híbridas
DESCRIPTION:CICLO CUERPOS \nPreparatorio del XII Congreso VIVIR EN 2024 Y DESPUÉS\n erotismo y subjetividades en mutación \nPRESENTACIÓN \nLa discusión en torno a la concepción del cuerpo no es nueva.  En relación al psicoanálisis\, podemos encontrar múltiples escrituras\, referencias y congresos\, entre tantas otras actividades\, que lo toman como temática.  Sin embargo\, la cuestión acerca del cuerpo vuelve e insiste.  En las últimas décadas ha ocupado un lugar de visibilidad en el campo de las ciencias humanas\, en lo social\, en lo cultural\, en lo político.  Así\, el cuerpo\, los cuerpos\, forman parte de múltiples debates contemporáneos y no podía estar ausente en nuestras actividades preparatorias de un Congreso psicoanalítico que lo propone como uno de sus ejes temáticos.  ¿Cómo pesquisar algo del orden del cuerpo?  ¿Cómo pensar e identificar ‘cuerpo’ a partir del discurso\, de la palabra?  ¿Cuál es el lugar de lo coyuntural y de lo contemporáneo en los debates psicoanalíticos en torno del cuerpo?  ¿De qué cuerpo hablamos en 2024? \nVIERNES 19 DE ABRIL\nEspacio Psicoanálisis e Hibridez – Ciclo CUERPOS x 1\n¿De qué cuerpo hablamos en 2024?\nAlgunas reflexiones en torno a la cuestión política y teórica del cuerpo y procesos de construcción de la alteridad en sujetos migrantes.\nPresentaciones de Verónica Pérez (Udelar\, Facultad de Psicología) y Raumar Rodríguez Giménez (Isef\, FHCE)\nActividad Abierta. Info \nVIERNES 3 DE MAYO\, 9 hs.\nEspacio Psicoanálisis e Hibridez – Ciclo CUERPOS x 2\nDiversidades y disidencias sexuales en el campo psicoanalítico\nPresentaciones de Margarita Muñiz (IUPP) y Mauricio Clavero (AUDEPP\, Facultad de Psicología).\nActividad abierta. Info \nVIERNES 17 DE MAYO\, 9 hs.\nEspacio Psicoanálisis e Hibridez- Ciclo CUERPOS x 3\nEn/gordas palabras: cuerpo y deseo.  Un recorrido por “El ajolote de Althusser”\nPresentaciones de la escritora y psicoanalista Mayra Nebril y psicoanalista Paola Menta\nActividad abierta. Info \nVIERNES 24 DE MAYO\nEspacio Psicoanálisis Clínico- Ciclo CUERPOS x 4\nEMERGENCIAS DEL CUERPO. De vigencias Y transformaciones en la clínica psicoanalítica con adolescentes\nPresenta Laboratorio de Adolescencia de APU\nActividad cerrada. Info \nComisión Científica \nXII Congreso de APU VIVIR EN 2024 Y DESPUÉS erotismo y subjetividades en mutación Info
URL:https://apuruguay.org/evento/ciclo-cuerpos-calendario-actividades-cientificas-2024-abiertas-e-hibridas/
CATEGORIES:Actividad Científica,Noticias
ATTACH;FMTTYPE=image/jpeg:https://apuruguay.org/wp-content/uploads/2024/04/video-ciclo-abril-24-1-1.jpg
ORGANIZER;CN="Comisi%C3%B3n Cient%C3%ADfica":MAILTO:congreso-2022-creatividad@apuruguay.org
END:VEVENT
END:VCALENDAR