BEGIN:VCALENDAR
VERSION:2.0
PRODID:-//APU - ECPv6.15.20//NONSGML v1.0//EN
CALSCALE:GREGORIAN
METHOD:PUBLISH
X-WR-CALNAME:APU
X-ORIGINAL-URL:https://apuruguay.org
X-WR-CALDESC:Eventos para APU
REFRESH-INTERVAL;VALUE=DURATION:PT1H
X-Robots-Tag:noindex
X-PUBLISHED-TTL:PT1H
BEGIN:VTIMEZONE
TZID:America/Montevideo
BEGIN:STANDARD
TZOFFSETFROM:-0300
TZOFFSETTO:-0300
TZNAME:-03
DTSTART:20200101T000000
END:STANDARD
END:VTIMEZONE
BEGIN:VEVENT
DTSTART;TZID=America/Montevideo:20211203T090000
DTEND;TZID=America/Montevideo:20211203T110000
DTSTAMP:20260424T011859
CREATED:20211207T014436Z
LAST-MODIFIED:20211207T172030Z
UID:14078-1638522000-1638529200@apuruguay.org
SUMMARY:Presentación de la Revista Uruguaya de Psicoanálisis 133 Odio
DESCRIPTION:Formulario de inscripción \nLecturas previas \nFreud en Kabul (RUP 133)\, Mariano Horenstein. Leer \nComentario de Alberto Cabral al trabajo de Horenstein (RUP 133). Leer \nSin tierra a la vista (RUP 133)\, Jorge Bruce. Leer
URL:https://apuruguay.org/evento/presentacion-de-la-revista-uruguaya-de-psicoanalisis-133-odio/
LOCATION:Zoom
CATEGORIES:Actividad Científica,Actividades
ATTACH;FMTTYPE=image/jpeg:https://apuruguay.org/wp-content/uploads/2021/11/present-rup-133-odio-3-12-21-700.jpg
END:VEVENT
END:VCALENDAR