BEGIN:VCALENDAR
VERSION:2.0
PRODID:-//APU - ECPv6.15.20//NONSGML v1.0//EN
CALSCALE:GREGORIAN
METHOD:PUBLISH
X-WR-CALNAME:APU
X-ORIGINAL-URL:https://apuruguay.org
X-WR-CALDESC:Eventos para APU
REFRESH-INTERVAL;VALUE=DURATION:PT1H
X-Robots-Tag:noindex
X-PUBLISHED-TTL:PT1H
BEGIN:VTIMEZONE
TZID:America/Montevideo
BEGIN:STANDARD
TZOFFSETFROM:-0300
TZOFFSETTO:-0300
TZNAME:-03
DTSTART:20210101T000000
END:STANDARD
END:VTIMEZONE
BEGIN:VEVENT
DTSTART;TZID=America/Montevideo:20220429T183000
DTEND;TZID=America/Montevideo:20220429T200000
DTSTAMP:20260423T172741
CREATED:20220324T223649Z
LAST-MODIFIED:20220324T223836Z
UID:14850-1651257000-1651262400@apuruguay.org
SUMMARY:LITERATURA Y PSICOANÁLISIS Voces y silencios que habitan la literatura infantil. 29 de abril 2022. Preparatoria al XI Congreso. Inscribirse
DESCRIPTION:¿Qué muestran y qué callan los libros para niños? ¿Qué recorridos hacemos los adultos cuando leemos o acercamos lecturas a los niños? ¿Qué esperamos de nosotros\, los niños y los libros? Sede de APU.   Taller a cargo de Cecilia Rodríguez. \nActividad presencial gratuita\, con inscripción previa. Formulario de inscripción \n\n  \nEn el marco de las actividades preparatorias\, la subcomisión “Artes” propone una serie de actividades que favorezcan el contacto con la experiencia estética y los procesos creativos en el arte. Las experiencias y producciones con que nos sorprenden los artistas y sus creaciones demuestran una y otra vez – tal como insistía Freud- que el arte capta con inequívoca intuición y exactitud lo que los analistas intentamos aprehender en forma tentativa y balbuceante acerca de la vida psíquica. \nCon el propósito de ensanchar la disposición a trabajar psicoanalíticamente el concepto de creatividad\, pareció pertinente diseñar una “hoja de ruta” con distintas “paradas/experiencias” que incluyan un recorrido por los distintos lenguajes del arte: la pintura\, no solo en el soporte clásico del lienzo sino también en sus “Muros parlantes”\, la producción audiovisual de los jóvenes\, la escultura\, la literatura\, el teatro\, el cine\, la música y la danza. \nSe incluirán espacios de diálogo entre artistas y psicoanalistas\, buscando trabajar conceptualmente\, encontrar zonas de cruce   y construir “ideas en tránsito”\, con el propósito de enriquecer a ambas disciplinas. \nA su vez\, estas actividades propician el reencuentro presencial\, entre nosotros y con la comunidad\, para afectar no solo con la palabra sino también con otros lenguajes y expresiones culturales. Creatividad que persigue encuentro libidinal\, ligazón con la teoría\, pero sobre todo ligazón con lo vital. \nSubcomisión Artes: Fernanda Cubría\, Ximena Malmierca\, Margarita Muniz\, Paula Rath\, Cecilia Romero.
URL:https://apuruguay.org/evento/literatura-y-psicoanalisis-voces-y-silencios-que-habitan-la-literatura-infantil-29-de-abril-2022-preparatoria-al-xi-congreso-inscribirse/
LOCATION:Sede de APU
CATEGORIES:Actividad Científica,Noticias
ATTACH;FMTTYPE=image/jpeg:https://apuruguay.org/wp-content/uploads/2022/03/BANNER-FINAL-29abril2022.jpg
ORGANIZER;CN="Comisi%C3%B3n Cient%C3%ADfica":MAILTO:congreso-2022-creatividad@apuruguay.org
END:VEVENT
END:VCALENDAR