BEGIN:VCALENDAR
VERSION:2.0
PRODID:-//APU - ECPv6.15.20//NONSGML v1.0//EN
CALSCALE:GREGORIAN
METHOD:PUBLISH
X-WR-CALNAME:APU
X-ORIGINAL-URL:https://apuruguay.org
X-WR-CALDESC:Eventos para APU
REFRESH-INTERVAL;VALUE=DURATION:PT1H
X-Robots-Tag:noindex
X-PUBLISHED-TTL:PT1H
BEGIN:VTIMEZONE
TZID:America/Montevideo
BEGIN:STANDARD
TZOFFSETFROM:-0300
TZOFFSETTO:-0300
TZNAME:-03
DTSTART:20210101T000000
END:STANDARD
END:VTIMEZONE
BEGIN:VEVENT
DTSTART;TZID=America/Montevideo:20220506T090000
DTEND;TZID=America/Montevideo:20220506T110000
DTSTAMP:20260423T172725
CREATED:20220324T211625Z
LAST-MODIFIED:20220519T150306Z
UID:14845-1651827600-1651834800@apuruguay.org
SUMMARY:Ciclo Mayo 2022. Psicoanálisis con niños
DESCRIPTION:Imagen de la Lic. Verónica Mangarelli (Analista en Formación\, IUPP) \nCiclo: Psicoanálisis con niños\nActividades científicas vía Zoom\, con inscripción previa. \n06/05\, 9 a 11 hs: Indagando la Depresión en el Infans\nPresenta Psicoanalista Sandra Press (APU). Leer trabajo\nCoordina Dra. Alicia Kachinovsky\, Directora de la Comisión Científica.\nActividad abierta. Formulario de inscripción \n13/05\, 9 a 11 hs: Temores a la tridimensionalidad\, cuando la alimentación se trastoca\nPresenta Psicoanalista Paula López (APU).\nCoordina Dra. Alicia Kachinovsky\, Directora de la Comisión Científica.\nActividad cerrada.\nEl trabajo será leído durante la actividad. \n20/05\, 9 a 11 hs: APU – ASOVEP.  «A mis pacientes que me pagan por enseñarme». Info\nPresenta Psicoanalista Marilucía Castellanos de Maestres (Asociación Venezolana de Psicoanálisis).\nEl trabajo será leído durante la actividad.\nCoordina Dra. Alicia Kachinovsky\, Directora de la Comisión Científica.\nActividad abierta. Formulario de inscripción \n 
URL:https://apuruguay.org/evento/adelanto-ciclo-psicoanalisis-con-ninos-mayo-de-2022/
CATEGORIES:Actividad Científica,Noticias
ATTACH;FMTTYPE=image/jpeg:https://apuruguay.org/wp-content/uploads/2022/03/ciclo-mayo-2022-IMG-20220321-WA0015-600.jpg
END:VEVENT
END:VCALENDAR