BEGIN:VCALENDAR
VERSION:2.0
PRODID:-//APU - ECPv6.15.20//NONSGML v1.0//EN
CALSCALE:GREGORIAN
METHOD:PUBLISH
X-WR-CALNAME:APU
X-ORIGINAL-URL:https://apuruguay.org
X-WR-CALDESC:Eventos para APU
REFRESH-INTERVAL;VALUE=DURATION:PT1H
X-Robots-Tag:noindex
X-PUBLISHED-TTL:PT1H
BEGIN:VTIMEZONE
TZID:America/Montevideo
BEGIN:STANDARD
TZOFFSETFROM:-0300
TZOFFSETTO:-0300
TZNAME:-03
DTSTART:20210101T000000
END:STANDARD
END:VTIMEZONE
BEGIN:VEVENT
DTSTART;VALUE=DATE:20220507
DTEND;VALUE=DATE:20220508
DTSTAMP:20260423T172758
CREATED:20220325T202347Z
LAST-MODIFIED:20220401T172507Z
UID:14881-1651881600-1651967999@apuruguay.org
SUMMARY:LA CREATIVIDAD EN LA EXPERIENCIA CLÍNICA... 7 de mayo 2022. Actividad preparatoria al XI Congreso. Inscribirse
DESCRIPTION:Actividad Gratuita. \nFormulario de inscripción \n 
URL:https://apuruguay.org/evento/la-creatividad-en-la-experiencia-clinica-7-de-mayo-2022-actividad-preparatoria-al-xi-congreso-inscribirse/
LOCATION:Sede de APU
CATEGORIES:Actividad Científica,Noticias
ATTACH;FMTTYPE=image/jpeg:https://apuruguay.org/wp-content/uploads/2022/03/afiche-colonia-prep-xi-congreso-apu-2022-600.jpg
ORGANIZER;CN="Comisi%C3%B3n Cient%C3%ADfica":MAILTO:congreso-2022-creatividad@apuruguay.org
END:VEVENT
END:VCALENDAR