BEGIN:VCALENDAR
VERSION:2.0
PRODID:-//APU - ECPv6.15.20//NONSGML v1.0//EN
CALSCALE:GREGORIAN
METHOD:PUBLISH
X-WR-CALNAME:APU
X-ORIGINAL-URL:https://apuruguay.org
X-WR-CALDESC:Eventos para APU
REFRESH-INTERVAL;VALUE=DURATION:PT1H
X-Robots-Tag:noindex
X-PUBLISHED-TTL:PT1H
BEGIN:VTIMEZONE
TZID:America/Montevideo
BEGIN:STANDARD
TZOFFSETFROM:-0300
TZOFFSETTO:-0300
TZNAME:-03
DTSTART:20210101T000000
END:STANDARD
END:VTIMEZONE
BEGIN:VEVENT
DTSTART;TZID=America/Montevideo:20220513T090000
DTEND;TZID=America/Montevideo:20220513T110000
DTSTAMP:20260423T172824
CREATED:20220504T192319Z
LAST-MODIFIED:20220519T150005Z
UID:15358-1652432400-1652439600@apuruguay.org
SUMMARY:Temores a la tridimensionalidad\, cuando la alimentación se trastoca. Presenta: Paula López
DESCRIPTION:Imagen de la Lic. Verónica Mangarelli (Analista en Formación\, IUPP) \nActividad científica vía Zoom. \n13/05/22\, 9 a 11 hs: Temores a la tridimensionalidad\, cuando la alimentación se trastoca\nPresenta Psicoanalista Paula López (APU).\nCoordina Dra. Alicia Kachinovsky\, Directora de la Comisión Científica. \nDescargar trabajo (ingresando a este link de WeTransfer)\nDado que contiene material clínico\, el archivo está protegido con contraseña\, que se envía en correo separado del boletín. \nQuien prefiera retirarlo impreso\, lo puede hacer en la recepción de APU (habrá algunos disponibles). \nEsta actividad forma parte del Ciclo Psicoanálisis con niños \n 
URL:https://apuruguay.org/evento/13-05-22-actividad-cientifica-cerrada-temores-a-la-tridimensionalidad-cuando-la-alimentacion-se-trastoca/
CATEGORIES:Actividad Científica
ATTACH;FMTTYPE=image/jpeg:https://apuruguay.org/wp-content/uploads/2022/03/ciclo-mayo-2022-IMG-20220321-WA0015-600.jpg
END:VEVENT
END:VCALENDAR