BEGIN:VCALENDAR
VERSION:2.0
PRODID:-//APU - ECPv6.15.20//NONSGML v1.0//EN
CALSCALE:GREGORIAN
METHOD:PUBLISH
X-WR-CALNAME:APU
X-ORIGINAL-URL:https://apuruguay.org
X-WR-CALDESC:Eventos para APU
REFRESH-INTERVAL;VALUE=DURATION:PT1H
X-Robots-Tag:noindex
X-PUBLISHED-TTL:PT1H
BEGIN:VTIMEZONE
TZID:America/Montevideo
BEGIN:STANDARD
TZOFFSETFROM:-0300
TZOFFSETTO:-0300
TZNAME:-03
DTSTART:20210101T000000
END:STANDARD
END:VTIMEZONE
BEGIN:VEVENT
DTSTART;TZID=America/Montevideo:20220610T090000
DTEND;TZID=America/Montevideo:20220610T110000
DTSTAMP:20260423T160143
CREATED:20220527T184948Z
LAST-MODIFIED:20220609T150459Z
UID:15564-1654851600-1654858800@apuruguay.org
SUMMARY:Conversando con el guionista\, productor y director uruguayo Rodolfo Sayagués\, 10 de junio 2022. Inscribirse
DESCRIPTION:Imagen de la Lic. Verónica Mangarelli (Analista en Formación\, IUPP) \nActividad científica abierta vía Zoom\, con inscripción previa. \nPreparatoria al XI Congreso de APU\nLA CREATIVIDAD\, ESA HUMANA EXPRERIENCIA. Diálogos del psicoanálisis con otras disciplinas Info \n10/06/22\, 9 a 11 hs.\nConversando con el guionista\, productor y director uruguayo Rodolfo Sayagués\n \nSugerimos ver previamente el film sobre el que se va a reflexionar «No respires 1» o «Don’t Breathe 1». Dirección: Federico Álvarez. Guión: Federico Álvarez – Rodolfo Sayagués. \nComentan Psicoanalistas Vivian Rimano (Directora de Publicaciones de APU) y Clara Uriarte (Presidente de APU y Rectora del IUPP)\nCoordina Dra. Alicia Kachinovsky\, Directora de la Comisión Científica. \nFormulario de inscripción \nEsta actividad forma parte del Ciclo: De odios\, violencias\, horrores\, maldades\, crueldades y otras miserias humanas. Info
URL:https://apuruguay.org/evento/conversando-con-el-guionista-productor-y-director-uruguayo-rodolfo-sayagues-10-junio-2022-inscribirse/
CATEGORIES:Actividad Científica,Noticias
ATTACH;FMTTYPE=image/jpeg:https://apuruguay.org/wp-content/uploads/2022/05/ciclo-cient-junio-2022-600.jpg
END:VEVENT
BEGIN:VEVENT
DTSTART;TZID=America/Montevideo:20220610T180000
DTEND;TZID=America/Montevideo:20220610T200000
DTSTAMP:20260423T160143
CREATED:20220530T202740Z
LAST-MODIFIED:20220601T185229Z
UID:15580-1654884000-1654891200@apuruguay.org
SUMMARY:TERTULIA EN CLAVE DE CINE: ARTE Y PSICOANÁLISIS. 10 de junio 2022\, MNAV. Inscribirse
DESCRIPTION:Formulario de inscripción \n  \n 
URL:https://apuruguay.org/evento/tertulia-en-clave-de-cine-arte-y-psicoanalisis-10-de-junio-2022-inscribirse/
LOCATION:Sede de APU
CATEGORIES:Actividad Científica,Actividades preparatorias,Noticias
ATTACH;FMTTYPE=image/png:https://apuruguay.org/wp-content/uploads/2022/05/parte-banner-prep-xi-cong-museo-zorrilla-8-07-22-iguales-700.png
ORGANIZER;CN="Comisi%C3%B3n Cient%C3%ADfica":MAILTO:congreso-2022-creatividad@apuruguay.org
END:VEVENT
END:VCALENDAR