BEGIN:VCALENDAR
VERSION:2.0
PRODID:-//APU - ECPv6.15.20//NONSGML v1.0//EN
CALSCALE:GREGORIAN
METHOD:PUBLISH
X-WR-CALNAME:APU
X-ORIGINAL-URL:https://apuruguay.org
X-WR-CALDESC:Eventos para APU
REFRESH-INTERVAL;VALUE=DURATION:PT1H
X-Robots-Tag:noindex
X-PUBLISHED-TTL:PT1H
BEGIN:VTIMEZONE
TZID:America/Montevideo
BEGIN:STANDARD
TZOFFSETFROM:-0300
TZOFFSETTO:-0300
TZNAME:-03
DTSTART:20210101T000000
END:STANDARD
END:VTIMEZONE
BEGIN:VEVENT
DTSTART;TZID=America/Montevideo:20220916T090000
DTEND;TZID=America/Montevideo:20220916T110000
DTSTAMP:20260423T114300
CREATED:20220908T143043Z
LAST-MODIFIED:20220908T145501Z
UID:16832-1663318800-1663326000@apuruguay.org
SUMMARY:"Izcali. Comunidad Terapéutica para el abordaje del Uso Problemático de Drogas y Adicciones Sociales. Dispositivo..." Abierta. 16/09/22
DESCRIPTION:Dibujo de la artista Katharyne Borges \nViernes 16 de setiembre de 2022\, 9 a 11 hs. Sede de APU\nPresencial + Zoom\nActividad científica abierta\, con inscripción previa. Formulario de inscripción\n \nCentro Izcali – Comunidad Terapéutica para el abordaje del Uso Problemático de Drogas y Adicciones Sociales. Dispositivo\, prácticas y reflexiones.\nPresentación de su Director\, Psicólogo Miguel Hernández. \nCoordina Dra. Alicia Kachinovsky\, Directora de la Comisión Científica. \nEsta actividad forma parte del Ciclo «Clínica psicoanalítica». Info
URL:https://apuruguay.org/evento/izcali-comunidad-terapeutica-para-el-abordaje-del-uso-problematico-de-drogas-y-adicciones-sociales-dispositivo-abierta-16-09-22/
LOCATION:Presencial\, sede de APU + Zoom
CATEGORIES:Actividad Científica
ATTACH;FMTTYPE=image/jpeg:https://apuruguay.org/wp-content/uploads/2022/08/ciclo-setiembre-2022-katharyne-borges.jpg
ORGANIZER;CN="Comisi%C3%B3n Cient%C3%ADfica":MAILTO:congreso-2022-creatividad@apuruguay.org
END:VEVENT
END:VCALENDAR