BEGIN:VCALENDAR
VERSION:2.0
PRODID:-//APU - ECPv6.15.20//NONSGML v1.0//EN
CALSCALE:GREGORIAN
METHOD:PUBLISH
X-ORIGINAL-URL:https://apuruguay.org
X-WR-CALDESC:Eventos para APU
REFRESH-INTERVAL;VALUE=DURATION:PT1H
X-Robots-Tag:noindex
X-PUBLISHED-TTL:PT1H
BEGIN:VTIMEZONE
TZID:America/Montevideo
BEGIN:STANDARD
TZOFFSETFROM:-0300
TZOFFSETTO:-0300
TZNAME:-03
DTSTART:20210101T000000
END:STANDARD
END:VTIMEZONE
BEGIN:VEVENT
DTSTART;TZID=America/Montevideo:20220923T090000
DTEND;TZID=America/Montevideo:20220923T110000
DTSTAMP:20260423T114432
CREATED:20220909T181913Z
LAST-MODIFIED:20220909T181913Z
UID:16843-1663923600-1663930800@apuruguay.org
SUMMARY:Presentación del Trabajo de Asociado de Claudio Danza (APU). Cerrada. 23/09/22
DESCRIPTION:Dibujo de la artista Katharyne Borges \nViernes 23 de setiembre de 2022\, 9 a 11 hs. Sede de APU\nActividad científica cerrada. Presencial. \nPresentación del Trabajo de Asociado del Psicoanalista Claudio Danza (APU).\n«Manuela: Lo fecundo de la incompletud».\nEL TRABAJO ESTÁ DISPONIBLE PARA RETIRAR EN RECEPCIÓN. \nCoordina Dra. Alicia Kachinovsky\, Directora de la Comisión Científica. \nEsta actividad forma parte del Ciclo «Clínica psicoanalítica». Info
URL:https://apuruguay.org/evento/presentacion-del-trabajo-de-asociado-de-claudio-danza-apu-cerrada-23-09-22/
LOCATION:Sede de APU
CATEGORIES:Actividad Científica
ATTACH;FMTTYPE=image/jpeg:https://apuruguay.org/wp-content/uploads/2022/08/ciclo-setiembre-2022-katharyne-borges.jpg
ORGANIZER;CN="Comisi%C3%B3n Cient%C3%ADfica":MAILTO:congreso-2022-creatividad@apuruguay.org
END:VEVENT
END:VCALENDAR