BEGIN:VCALENDAR
VERSION:2.0
PRODID:-//APU - ECPv6.15.20//NONSGML v1.0//EN
CALSCALE:GREGORIAN
METHOD:PUBLISH
X-ORIGINAL-URL:https://apuruguay.org
X-WR-CALDESC:Eventos para APU
REFRESH-INTERVAL;VALUE=DURATION:PT1H
X-Robots-Tag:noindex
X-PUBLISHED-TTL:PT1H
BEGIN:VTIMEZONE
TZID:America/Montevideo
BEGIN:STANDARD
TZOFFSETFROM:-0300
TZOFFSETTO:-0300
TZNAME:-03
DTSTART:20220101T000000
END:STANDARD
END:VTIMEZONE
BEGIN:VEVENT
DTSTART;TZID=America/Montevideo:20230310T090000
DTEND;TZID=America/Montevideo:20230310T113000
DTSTAMP:20260423T002430
CREATED:20230303T202703Z
LAST-MODIFIED:20230303T202814Z
UID:17618-1678438800-1678447800@apuruguay.org
SUMMARY:Actividad científica viernes 10/03/23\, con Heribert Blass y Katy Bogliatto. Cerrada
DESCRIPTION:
URL:https://apuruguay.org/evento/actividad-cientifica-viernes-10-03-23-dres-heribert-blass-y-katy-bogliatto/
LOCATION:Sede de APU
CATEGORIES:Actividad Científica
ATTACH;FMTTYPE=image/jpeg:https://apuruguay.org/wp-content/uploads/2023/03/flyer-blass-bogliatto-10-03-23-1.jpg
ORGANIZER;CN="Comisi%C3%B3n Cient%C3%ADfica":MAILTO:congreso-2022-creatividad@apuruguay.org
END:VEVENT
END:VCALENDAR