BEGIN:VCALENDAR
VERSION:2.0
PRODID:-//APU - ECPv6.15.20//NONSGML v1.0//EN
CALSCALE:GREGORIAN
METHOD:PUBLISH
X-WR-CALNAME:APU
X-ORIGINAL-URL:https://apuruguay.org
X-WR-CALDESC:Eventos para APU
REFRESH-INTERVAL;VALUE=DURATION:PT1H
X-Robots-Tag:noindex
X-PUBLISHED-TTL:PT1H
BEGIN:VTIMEZONE
TZID:America/Montevideo
BEGIN:STANDARD
TZOFFSETFROM:-0300
TZOFFSETTO:-0300
TZNAME:-03
DTSTART:20220101T000000
END:STANDARD
END:VTIMEZONE
BEGIN:VEVENT
DTSTART;TZID=America/Montevideo:20230317T090000
DTEND;TZID=America/Montevideo:20230317T110000
DTSTAMP:20260423T002151
CREATED:20230308T192641Z
LAST-MODIFIED:20230309T141948Z
UID:17769-1679043600-1679050800@apuruguay.org
SUMMARY:Actividad científica 17/3/2023 "Me alquilo para soñar". Abierta
DESCRIPTION:Leer trabajo de Álvaro Zas\, publicado en la RUP 134 «Sueños». Info
URL:https://apuruguay.org/evento/actividad-cientifica-17-3-2023-me-alquilo-para-sonar-abierta/
LOCATION:Sede de APU
CATEGORIES:Actividad Científica
ATTACH;FMTTYPE=image/jpeg:https://apuruguay.org/wp-content/uploads/2023/03/cient-17-marzo-23-500.jpg
ORGANIZER;CN="Comisi%C3%B3n Cient%C3%ADfica":MAILTO:congreso-2022-creatividad@apuruguay.org
END:VEVENT
END:VCALENDAR