BEGIN:VCALENDAR
VERSION:2.0
PRODID:-//APU - ECPv6.15.20//NONSGML v1.0//EN
CALSCALE:GREGORIAN
METHOD:PUBLISH
X-WR-CALNAME:APU
X-ORIGINAL-URL:https://apuruguay.org
X-WR-CALDESC:Eventos para APU
REFRESH-INTERVAL;VALUE=DURATION:PT1H
X-Robots-Tag:noindex
X-PUBLISHED-TTL:PT1H
BEGIN:VTIMEZONE
TZID:America/Montevideo
BEGIN:STANDARD
TZOFFSETFROM:-0300
TZOFFSETTO:-0300
TZNAME:-03
DTSTART:20220101T000000
END:STANDARD
END:VTIMEZONE
BEGIN:VEVENT
DTSTART;TZID=America/Montevideo:20230421T090000
DTEND;TZID=America/Montevideo:20230421T110000
DTSTAMP:20260423T002135
CREATED:20230308T191937Z
LAST-MODIFIED:20230414T142144Z
UID:17765-1682067600-1682074800@apuruguay.org
SUMMARY:Actividad científica 21/4/2023 "Soñar en 35mm". Abierta
DESCRIPTION:Link para ver el film Mulholland Drive. Info \nResumen de la presentación. Info
URL:https://apuruguay.org/evento/actividad-cientifica-21-4-2023-sonar-en-35mm-abierta/
LOCATION:Sede de APU
CATEGORIES:Actividad Científica,Noticias
ATTACH;FMTTYPE=image/jpeg:https://apuruguay.org/wp-content/uploads/2023/03/cient-21-4-23-nagy-500.jpg
ORGANIZER;CN="Comisi%C3%B3n Cient%C3%ADfica":MAILTO:congreso-2022-creatividad@apuruguay.org
END:VEVENT
END:VCALENDAR