BEGIN:VCALENDAR
VERSION:2.0
PRODID:-//APU - ECPv6.15.20//NONSGML v1.0//EN
CALSCALE:GREGORIAN
METHOD:PUBLISH
X-ORIGINAL-URL:https://apuruguay.org
X-WR-CALDESC:Eventos para APU
REFRESH-INTERVAL;VALUE=DURATION:PT1H
X-Robots-Tag:noindex
X-PUBLISHED-TTL:PT1H
BEGIN:VTIMEZONE
TZID:America/Montevideo
BEGIN:STANDARD
TZOFFSETFROM:-0300
TZOFFSETTO:-0300
TZNAME:-03
DTSTART:20220101T000000
END:STANDARD
END:VTIMEZONE
BEGIN:VEVENT
DTSTART;TZID=America/Montevideo:20230602T090000
DTEND;TZID=America/Montevideo:20230602T110000
DTSTAMP:20260422T200748
CREATED:20230511T155303Z
LAST-MODIFIED:20230511T194122Z
UID:18153-1685696400-1685703600@apuruguay.org
SUMMARY:Actividad científica 2 de junio 2023\, 9hs. Cerrada
DESCRIPTION:El Psicoanalista Javier Peluffo (APU) presenta su Trabajo de Miembro Asociado “Boy parts. Otras formas de la muerte” \nComenta Psicoanalista Susana Balparda (APU).\nActividad cerrada. \nVer video de presentación del Ciclo.  \nCiclo Mortales\, mayo – junio 2023. Info
URL:https://apuruguay.org/evento/actividad-cientifica-2-de-junio-2023-9hs-cerrada/
LOCATION:Sede de APU
CATEGORIES:Actividad Científica
ATTACH;FMTTYPE=image/jpeg:https://apuruguay.org/wp-content/uploads/2023/05/flyer-cient-2-6-23-450.jpg
END:VEVENT
END:VCALENDAR