BEGIN:VCALENDAR
VERSION:2.0
PRODID:-//APU - ECPv6.15.20//NONSGML v1.0//EN
CALSCALE:GREGORIAN
METHOD:PUBLISH
X-WR-CALNAME:APU
X-ORIGINAL-URL:https://apuruguay.org
X-WR-CALDESC:Eventos para APU
REFRESH-INTERVAL;VALUE=DURATION:PT1H
X-Robots-Tag:noindex
X-PUBLISHED-TTL:PT1H
BEGIN:VTIMEZONE
TZID:America/Montevideo
BEGIN:STANDARD
TZOFFSETFROM:-0300
TZOFFSETTO:-0300
TZNAME:-03
DTSTART:20220101T000000
END:STANDARD
END:VTIMEZONE
BEGIN:VEVENT
DTSTART;TZID=America/Montevideo:20230616T090000
DTEND;TZID=America/Montevideo:20230616T110000
DTSTAMP:20260422T200750
CREATED:20230607T162853Z
LAST-MODIFIED:20230607T200730Z
UID:18304-1686906000-1686913200@apuruguay.org
SUMMARY:Actividad científica 16/6/23\, 9 hs.   Necropolítica y Psicoanálisis. Abierta
DESCRIPTION:En esta última actividad del Ciclo MORTALES\, Carla Rodrigues\, Filósofa e investigadora de la Universidad Federal de Río de Janeiro\, Brasil\, se conectará por Zoom con su trabajo: “Necropolítica y psicoanálsis\, una oportunidad de actualización”. El mismo contará con los comentarios de Soledad Sosa\, quien participará en \nforma presencial desde APU. \nLeer trabajo de C Rodrigues. Info \nLeer comentarios de S Sosa. Info \nDatos para acceder por Zoom\, para participantes desde el interior de Uruguay y desde el exterior:\nhttps://us02web.zoom.us/j/83140778434?pwd=NnQ3cWx3UzV5ODFaMEE0TkJSbXZtdz09\nID de reunión: 831 4077 8434\nCódigo de acceso: reucien \nCiclo Mortales\, mayo – junio 2023. Info
URL:https://apuruguay.org/evento/actividad-cientifica-necropolitica-y-psicoanalisis-16-6-23-9-hs/
CATEGORIES:Actividad Científica,Noticias
ATTACH;FMTTYPE=image/jpeg:https://apuruguay.org/wp-content/uploads/2023/06/flyer-16-junio-2023-400.jpg
END:VEVENT
END:VCALENDAR