BEGIN:VCALENDAR
VERSION:2.0
PRODID:-//APU - ECPv6.15.20//NONSGML v1.0//EN
CALSCALE:GREGORIAN
METHOD:PUBLISH
X-ORIGINAL-URL:https://apuruguay.org
X-WR-CALDESC:Eventos para APU
REFRESH-INTERVAL;VALUE=DURATION:PT1H
X-Robots-Tag:noindex
X-PUBLISHED-TTL:PT1H
BEGIN:VTIMEZONE
TZID:America/Montevideo
BEGIN:STANDARD
TZOFFSETFROM:-0300
TZOFFSETTO:-0300
TZNAME:-03
DTSTART:20220101T000000
END:STANDARD
END:VTIMEZONE
BEGIN:VEVENT
DTSTART;TZID=America/Montevideo:20231001T080000
DTEND;TZID=America/Montevideo:20231001T090000
DTSTAMP:20260422T141244
CREATED:20230927T152703Z
LAST-MODIFIED:20230927T155508Z
UID:18964-1696147200-1696150800@apuruguay.org
SUMMARY:Calendario de actividades científicas Octubre 2023
DESCRIPTION:DERIVAS CIENTÍFICAS  \nCALENDARIO DE ACTIVIDADES OCTUBRE 2023 \n  \nVIERNES 6 de OCTUBRE \nEspacio Psicoanálisis por Psicoanalistas\nInstituto Latinoamericano de Psicoanálisis (ILAP) \n“Ecos en el equinoccio: prestar oídos a la cronología psicoanalítica en la mitad del mundo”\nPresentan: Daniela S. Castro Falconi (analista en formación ILAP\, grupo Quito)\nÁlvaro Carrión Alarcón (analista directo de IPA\, egresado ILAP\, grupo Quito)\nParticipan: Susana Balparda (directora ILAP)\, Anabel Rodríguez (adjunta a la dirección ILPA).\nActividad abierta. Info \nVIERNES 13 de OCTUBRE \nPsicoanálisis clínico\nCarla: Diferentes perspectivas sobre la naturaleza y severidad de sus trastornos.\nPresentan Mónica Eidlin  y Ricardo Bernardi\nActividad cerrada. \nVIERNES 20 de OCTUBRE y SÁBADO 21 de OCTUBRE \nCOLOQUIO PSICOANÁLISIS Y SOCIEDAD\nINTOLERANCIAS\, DESIGUALDADES\, DIFERENCIAS\nActividad abierta con inscripción. Info \n  \nVIERNES 27 de OCTUBRE \nINTERCAMBIO CIENTÍFICO-DIDÁCTICO DE FEPAL\nInvitado: Fernando Araoz – Asociación Psicoanalítica de Chile (APCh)\nActividad conjunta de Comisión de Enseñanza y Comisión Científica.\nActividad cerrada.
URL:https://apuruguay.org/evento/calendario-de-actividades-cientificas-octubre-2023/
CATEGORIES:Actividad Científica
ORGANIZER;CN="Comisi%C3%B3n Cient%C3%ADfica":MAILTO:congreso-2022-creatividad@apuruguay.org
END:VEVENT
END:VCALENDAR