BEGIN:VCALENDAR
VERSION:2.0
PRODID:-//APU - ECPv6.15.20//NONSGML v1.0//EN
CALSCALE:GREGORIAN
METHOD:PUBLISH
X-ORIGINAL-URL:https://apuruguay.org
X-WR-CALDESC:Eventos para APU
REFRESH-INTERVAL;VALUE=DURATION:PT1H
X-Robots-Tag:noindex
X-PUBLISHED-TTL:PT1H
BEGIN:VTIMEZONE
TZID:America/Montevideo
BEGIN:STANDARD
TZOFFSETFROM:-0300
TZOFFSETTO:-0300
TZNAME:-03
DTSTART:20220101T000000
END:STANDARD
END:VTIMEZONE
BEGIN:VEVENT
DTSTART;TZID=America/Montevideo:20231013T090000
DTEND;TZID=America/Montevideo:20231013T110000
DTSTAMP:20260422T141317
CREATED:20231004T160435Z
LAST-MODIFIED:20231009T201008Z
UID:19013-1697187600-1697194800@apuruguay.org
SUMMARY:Actividad científica 13 de octubre 2023\, 9 hs. Psicoanálisis clínico: Bernardi\, Eidlin. Cerrada
DESCRIPTION:  \n \nMaterial clínico. Info\nESTE ARCHIVO SE ABRE CON CLAVE\, QUE SERÁ ENVIADA EN MAIL APARTE. \nDurante la actividad se leerán fragmentos de diferentes sesiones. \nEl día antes de envían datos para acceder por Zoom.
URL:https://apuruguay.org/evento/actividad-cientifica-13-de-octubre-2023-9-hs-psicoanalisis-clinico-bernardi-eidlin-cerrada/
LOCATION:Sede de APU + Online
CATEGORIES:Actividad Científica,Noticias
ATTACH;FMTTYPE=image/png:https://apuruguay.org/wp-content/uploads/2023/10/bol-deriva-cient-13-10-23-bernardi-eidlin-400.png
ORGANIZER;CN="Comisi%C3%B3n Cient%C3%ADfica":MAILTO:congreso-2022-creatividad@apuruguay.org
END:VEVENT
END:VCALENDAR