BEGIN:VCALENDAR
VERSION:2.0
PRODID:-//APU - ECPv6.15.20//NONSGML v1.0//EN
CALSCALE:GREGORIAN
METHOD:PUBLISH
X-WR-CALNAME:APU
X-ORIGINAL-URL:https://apuruguay.org
X-WR-CALDESC:Eventos para APU
REFRESH-INTERVAL;VALUE=DURATION:PT1H
X-Robots-Tag:noindex
X-PUBLISHED-TTL:PT1H
BEGIN:VTIMEZONE
TZID:America/Montevideo
BEGIN:STANDARD
TZOFFSETFROM:-0300
TZOFFSETTO:-0300
TZNAME:-03
DTSTART:20230101T000000
END:STANDARD
END:VTIMEZONE
BEGIN:VEVENT
DTSTART;TZID=America/Montevideo:20240315T090000
DTEND;TZID=America/Montevideo:20240315T110000
DTSTAMP:20260422T051912
CREATED:20240228T151749Z
LAST-MODIFIED:20240311T132320Z
UID:19706-1710493200-1710500400@apuruguay.org
SUMMARY:Actividad científica 15/3/2024 “Desafíos en la clínica con niños en la actualidad..." Laboratorio de Niños. Abierta
DESCRIPTION:
URL:https://apuruguay.org/evento/actividad-cientifica-15-3-2024-desafios-en-la-clinica-con-ninos-en-la-actualidad-laboratorio-de-ninos-abierta/
LOCATION:Presencial\, sede de APU + Zoom
CATEGORIES:Actividad Científica
ATTACH;FMTTYPE=image/png:https://apuruguay.org/wp-content/uploads/2024/02/Feed—DerivaCientifica-Parentalidades_02-VERSION-2-15-03-24-400.png
ORGANIZER;CN="Comisi%C3%B3n Cient%C3%ADfica":MAILTO:congreso-2022-creatividad@apuruguay.org
END:VEVENT
END:VCALENDAR