BEGIN:VCALENDAR
VERSION:2.0
PRODID:-//APU - ECPv6.15.20//NONSGML v1.0//EN
CALSCALE:GREGORIAN
METHOD:PUBLISH
X-ORIGINAL-URL:https://apuruguay.org
X-WR-CALDESC:Eventos para APU
REFRESH-INTERVAL;VALUE=DURATION:PT1H
X-Robots-Tag:noindex
X-PUBLISHED-TTL:PT1H
BEGIN:VTIMEZONE
TZID:America/Montevideo
BEGIN:STANDARD
TZOFFSETFROM:-0300
TZOFFSETTO:-0300
TZNAME:-03
DTSTART:20230101T000000
END:STANDARD
END:VTIMEZONE
BEGIN:VEVENT
DTSTART;TZID=America/Montevideo:20240322T090000
DTEND;TZID=America/Montevideo:20240322T110000
DTSTAMP:20260422T052324
CREATED:20240228T152845Z
LAST-MODIFIED:20240315T194724Z
UID:19714-1711098000-1711105200@apuruguay.org
SUMMARY:Actividad científica 22/3/2024 Cine FORO: Film “FAMILIA”. Abierta
DESCRIPTION:¿Ya viste «Familia» en Netflix?\nhttps://www.netflix.com/es/title/81641353?s=a&trkid=13747225&trg=wha&vlang=es&clip=81745537
URL:https://apuruguay.org/evento/actividad-cientifica-22-3-2024-cine-foro-pelicula-familia-abierta/
LOCATION:Presencial\, sede de APU + Zoom
CATEGORIES:Actividad Científica
ATTACH;FMTTYPE=image/png:https://apuruguay.org/wp-content/uploads/2024/02/Feed—DerivaCientifica-Parentalidades_03-VERSION-3-22-03-24-400.png
ORGANIZER;CN="Comisi%C3%B3n Cient%C3%ADfica":MAILTO:congreso-2022-creatividad@apuruguay.org
END:VEVENT
END:VCALENDAR