BEGIN:VCALENDAR
VERSION:2.0
PRODID:-//APU - ECPv6.15.20//NONSGML v1.0//EN
CALSCALE:GREGORIAN
METHOD:PUBLISH
X-ORIGINAL-URL:https://apuruguay.org
X-WR-CALDESC:Eventos para APU
REFRESH-INTERVAL;VALUE=DURATION:PT1H
X-Robots-Tag:noindex
X-PUBLISHED-TTL:PT1H
BEGIN:VTIMEZONE
TZID:America/Montevideo
BEGIN:STANDARD
TZOFFSETFROM:-0300
TZOFFSETTO:-0300
TZNAME:-03
DTSTART:20230101T000000
END:STANDARD
END:VTIMEZONE
BEGIN:VEVENT
DTSTART;TZID=America/Montevideo:20241011T090000
DTEND;TZID=America/Montevideo:20241011T110000
DTSTAMP:20260421T190218
CREATED:20241002T213835Z
LAST-MODIFIED:20241004T145101Z
UID:21218-1728637200-1728644400@apuruguay.org
SUMMARY:11/10/24 Material clínico y comentarios de Laboratorio de Adolescencia de APU. Cerrada
DESCRIPTION:
URL:https://apuruguay.org/evento/11-10-24-material-clinico-y-comentarios-de-laboratorio-de-ninos-de-apu-cerrada/
LOCATION:Presencial\, sede de APU + Zoom
CATEGORIES:Actividad Científica
ATTACH;FMTTYPE=image/png:https://apuruguay.org/wp-content/uploads/2024/10/Feed-DerivasCientificas-PSI.Clinico_AdolescenteEnTransito-11-10-24-400.png
ORGANIZER;CN="Comisi%C3%B3n Cient%C3%ADfica":MAILTO:congreso-2022-creatividad@apuruguay.org
END:VEVENT
END:VCALENDAR