BEGIN:VCALENDAR
VERSION:2.0
PRODID:-//APU - ECPv6.15.20//NONSGML v1.0//EN
CALSCALE:GREGORIAN
METHOD:PUBLISH
X-WR-CALNAME:APU
X-ORIGINAL-URL:https://apuruguay.org
X-WR-CALDESC:Eventos para APU
REFRESH-INTERVAL;VALUE=DURATION:PT1H
X-Robots-Tag:noindex
X-PUBLISHED-TTL:PT1H
BEGIN:VTIMEZONE
TZID:America/Montevideo
BEGIN:STANDARD
TZOFFSETFROM:-0300
TZOFFSETTO:-0300
TZNAME:-03
DTSTART:20240101T000000
END:STANDARD
END:VTIMEZONE
BEGIN:VEVENT
DTSTART;TZID=America/Montevideo:20250328T090000
DTEND;TZID=America/Montevideo:20250328T110000
DTSTAMP:20260421T051540
CREATED:20250312T213911Z
LAST-MODIFIED:20250317T151542Z
UID:21815-1743152400-1743159600@apuruguay.org
SUMMARY:Científica 28/3/25\, 9hs.“Un mundo convulso: la influencia de la intolerancia y el fanatismo en el desarrollo de las teorías psicoanalíticas…”
DESCRIPTION:  \n \nResumen del trabajo de la Lic. Psic. R. Hercilia Rojas “Un mundo convulso: la influencia de la intolerancia y el fanatismo en el desarrollo de las teorías psicoanalíticas y su incidencia en las modificaciones del método”. Info \nLeer trabajo. Info \nActividad en el marco del PRIMER CICLO Científicas 2025.\nPremiadas de OCAL en casa: 14 y 28 de marzo de 2025. Info \nCoordina Psicoanalista Claudio Danza\, Director de la Comisión Científica \nLos esperamos. \nComisión Científica de APU \nDATOS ZOOM\nhttps://us02web.zoom.us/j/89691480433?pwd=5VkNbn8zy9lX2pu3RnWGAvzBFxziWn.1\nID: 896 9148 0433\nCódigo: 1571
URL:https://apuruguay.org/evento/cientifica-28-3-25-un-mundo-convulso-la-influencia-de-la-intolerancia-y-el-fanatismo-en-el-desarrollo-de-las-teorias-psicoanaliticas/
LOCATION:Sede de APU + Online
CATEGORIES:Actividad Científica
ATTACH;FMTTYPE=image/png:https://apuruguay.org/wp-content/uploads/2025/03/primer-ciclo-2025-28-03-destacada.png
ORGANIZER;CN="Comisi%C3%B3n Cient%C3%ADfica":MAILTO:congreso-2022-creatividad@apuruguay.org
END:VEVENT
END:VCALENDAR