BEGIN:VCALENDAR
VERSION:2.0
PRODID:-//APU - ECPv6.15.20//NONSGML v1.0//EN
CALSCALE:GREGORIAN
METHOD:PUBLISH
X-WR-CALNAME:APU
X-ORIGINAL-URL:https://apuruguay.org
X-WR-CALDESC:Eventos para APU
REFRESH-INTERVAL;VALUE=DURATION:PT1H
X-Robots-Tag:noindex
X-PUBLISHED-TTL:PT1H
BEGIN:VTIMEZONE
TZID:America/Montevideo
BEGIN:STANDARD
TZOFFSETFROM:-0300
TZOFFSETTO:-0300
TZNAME:-03
DTSTART:20210101T000000
END:STANDARD
END:VTIMEZONE
BEGIN:VEVENT
DTSTART;TZID=America/Montevideo:20220708T190000
DTEND;TZID=America/Montevideo:20220708T210000
DTSTAMP:20260423T090017
CREATED:20220531T184040Z
LAST-MODIFIED:20220616T221253Z
UID:15592-1657306800-1657314000@apuruguay.org
SUMMARY:DE LA CREACIÓN\, MIRADA – ESCUCHA – PALABRA. 8 de julio 2022\, 19 hs\, Museo Zorrilla. Inscribirse
DESCRIPTION:Formulario de inscripción \n  \n 
URL:https://apuruguay.org/evento/de-la-creacion-mirada-escucha-palabra-8-de-julio-2022-19-hs/
LOCATION:Museo Zorrilla\, José Luis Zorrilla de San Martín 96\, Montevideo\, Uruguay
CATEGORIES:Actividad Científica,Actividades preparatorias,Noticias
ATTACH;FMTTYPE=image/png:https://apuruguay.org/wp-content/uploads/2022/05/parte-banner-prep-xi-cong-museo-zorrilla-8-07-22-700.png
END:VEVENT
END:VCALENDAR