BEGIN:VCALENDAR
VERSION:2.0
PRODID:-//APU - ECPv6.15.20//NONSGML v1.0//EN
CALSCALE:GREGORIAN
METHOD:PUBLISH
X-WR-CALNAME:APU
X-ORIGINAL-URL:https://apuruguay.org
X-WR-CALDESC:Eventos para APU
REFRESH-INTERVAL;VALUE=DURATION:PT1H
X-Robots-Tag:noindex
X-PUBLISHED-TTL:PT1H
BEGIN:VTIMEZONE
TZID:America/Montevideo
BEGIN:STANDARD
TZOFFSETFROM:-0300
TZOFFSETTO:-0300
TZNAME:-03
DTSTART:20230101T000000
END:STANDARD
END:VTIMEZONE
BEGIN:VEVENT
DTSTART;TZID=America/Montevideo:20240524T090000
DTEND;TZID=America/Montevideo:20240524T110000
DTSTAMP:20260419T220658
CREATED:20240516T162925Z
LAST-MODIFIED:20240520T172920Z
UID:20286-1716541200-1716548400@apuruguay.org
SUMMARY:CICLO CUERPOS. Preparatorio del XII Congreso. Actividad científica 24/5/2024. EMERGENCIAS DEL CUERPO... Cerrada
DESCRIPTION:Los adolescentes nos interpelan en lo social y en nuestra experiencia analítica con ellos. Nos convocan a interrogarnos sobre nuestra praxis una y otra vez. Ellos en sus vaivenes identificatorios\, con sus crisis narcisistas y objetales nos muestran sus sufrimientos y des-esperanzas a través de su palabra\, de sus mostraciones en el cuerpo\, de irrupciones violentas que los ponen muchas veces en riesgo. \nMomento que implica intenso proceso de mutación\, de resignificación\, de repetición pulsional\, donde se acelera el espacio-tiempo\, empuje puberal\, donde el acto cobra un lugar preponderante. \n¿Cómo pensamos a los adolescentes\, protagonistas y activistas indiscutibles de los cambios sociales? Cambios y efectos que repercuten directamente en nuestras teorías psicoanalíticas. Entonces\, ¿qué transformaciones y qué vigencias?\, ¿Qué psicoanálisis con adolescentes en el 2024 y después? Acudiremos a tres viñetas clínicas para seguir pensando juntos. \nLaboratorio de Adolescencia \nCoordinadores: Natalia Rossi\, Claudio Danza \nIntegrantes:\nMiriam Aliskevich\nMaría Bordaberry\nAna Cazes\nStella García\nAna Lía López\nLeonor Oncina\nMartha Perroni\nAdriana Ponzoni\nGabriela Porras\nTatiana Santander\nAurora Sopeña \nVer CICLO CUERPOS. Info
URL:https://apuruguay.org/evento/ciclo-cuerpos-preparatorio-del-xii-congreso-actividad-cientifica-24-5-2024-emergencias-del-cuerpo/
LOCATION:Sede de APU + Online
CATEGORIES:Actividad Científica,Actividades preparatorias
ATTACH;FMTTYPE=image/jpeg:https://apuruguay.org/wp-content/uploads/2024/05/cient-24-5-24-400.jpg
END:VEVENT
END:VCALENDAR